Workbook

Sheet 0คำอธิบาย
A1: กระบวนงานหรือโครงการที่ต้องทำการประเมินความเสี่ยงการทุจริต ประจำปีงบประมาณ พ.ศ. ๒๕๖๗
A3: ลำดับ | B3: ประเภทหน่วยงาน | C3: รายละเอียด
A4: 1 | B4: หน่วยงานระดับกรม/เทียบเท่า | C4: ให้ทำการประเมินความเสี่ยงการทุจริต ตามที่สำนักงาน ป.ป.ท. กำหนด จำนวน ๑ กระบวนงาน/โครงการ เพียงอย่างใดอย่างหนึ่ง (รายละเอียดตามแนบท้าย)
A5: 2 | B5: รัฐวิสาหกิจ | C5: ให้ทำการประเมินความเสี่ยงการทุจริต โครงการจัดชื้อจัดจ้างงบประมาณปี พ.ศ. ๒๕๖๗ ที่มีวงเงินสูงสุด จำนวน ๑ โครงการ
A6: 3 | B6: องค์การมหาชน | C6: ให้ทำการประเมินความเสี่ยงการทุจริต โครงการจัดชื้อจัดจ้าง งบประมาณปี พ.ศ. ๒๕๖๗ ที่มีวงเงินสูงสุด จำนวน ๑ โครงการ
A7: 4 | B7: หน่วยงานอื่นๆของรัฐ | C7: ให้ทำการประเมินความเสี่ยงการทุจริต โครงการจัดชื้อจัดจ้าง งบประมาณปี พ.ศ. ๒๕๖๗ ที่มีวงเงินสูงสุด จำนวน ๑ โครงการ
A8: 5 | B8: จัดชื้อจัดจ้าง | C8: จังหวัด จัดสรรงบพัฒนาจังหวัด/กลุ่มจังหวัด ให้ทำการประเมินความเสี่ยงการทุจริต โครงการ งบประมาณปี พ.ศ. ๒๕๖๗ ที่มีวงเงินสูงสุด จำนวน ๑ โครงการ (งบพัฒนาจังหวัด /กลุ่มจังหวัด) ของส่วนราชการระดับภูมิภาค
A9: 6 | B9: องค์กรปกครองส่วนท้องถิ่น (กทม. สำนักงานเขต กทม และเมืองพัทยา) | C9: (๑) กรุงเทพมหานคร ให้ทำการประเมินความเสี่ยงการทุจริต โครงการจัดชื้อจัดจ้าง งบประมาณปี พ.ศ. ๒๕๖๗ ที่มีวงเงินสูงสุด จำนวน ๑ โครงการ
C10: (๒) สำนักงานเขตใน กทม. ๕๐ เขต และเมืองพัทยา ให้ทำการประเมินความเสี่ยงการทุจริตกระบวนงานการให้บริการ ตาม พรบ.การอำนวยความสะดวกในการพิจารณาอนุญาตของทางราชการ พ.ศ.๒๕๕๘ ให้คัดเลือก ๑ กระบวนงาน
A12: หมายเหตุ :
B13: ๑. กรณีหน่วยงานทำการประเมินความเสี่ยงการทุจริตโครงการจัดซื้อจัดจ้าง ให้ทำการคัดเลือกโครงการจากเงินงบประมาณหรือเงินนอกงบประมาณที่มีวงเงินสูงสุด จำนวน ๑ โครงการ
B14: ๒. ในการประเมินความเสี่ยงการทุจริตหน่วยงานสามารถถอดบทเรียน (Lesson learned) เรื่องร้องเรียนที่มีการรายงานข้อร้องเรียนทางวินัย ตามมติ ครม. ๒๗ มีนาคม ๒๕๖๑ และมติ ครม. ๒๘ มกราคม ๒๕๖๓ หรือคดีการทุจริตประพฤติมิชอบ ประกอบการประเมินความเสี่ยงการทุจริต เพื่อลดโอกาสเกิดซ้ำ
B15: ๓. สำหรับการประเมินความเสี่ยงการทุจริตโครงการจัดชื้อจัดจ้าง ให้แนบรายละเอียดประมาณการงบประมาณโครงการ ในรูป แบบไฟล์ MS World หรือไฟล์ MS Excel พร้อมรายงานรอบที่ ๑ ทุกโครงการ
B16: ๔. กรณีการประเมินความเสี่ยงการทุจริตโครงการจัดชื้อจัดจ้าง ให้หน่วยงานทำการประเมินความเสี่ยงการทุจริตโครงการที่มีงบประมาณสูงสุด จำนวน ๑ โครงการ ถึงแม้โครงการที่เข้าร่วมโครงการข้อตกลงคุณธรรม (Integrity Pact) หรือโครงการก่อสร้างขนาดใหญ่ CoST (Construction Sector Transparency) หรือ โครงการร่วมโครงการร่วมลงทุนระหว่างรัฐและเอกชน ( Public Private Partnership : PPP) ก็ให้ทำการประเมินความเสี่ยงการทุจริต

Sheet dataset
A1: ประเภทความเสี่ยงที่ส่งรายงาน | C1: ศปท.กระทรวง | E1: ด้านประเภทความเสี่ยง | G1: ประเภทงบประมาณ | M1: ประเภทหน่วยงาน | O1: ระดับความเสี่ยง | Q1: อนุมัติ | S1: เผยแพร่ | U1: คะแนน | W1: ระดับ | X1: ประเภทงบประมาณ | Z1: โครงการ IP | AB1: โครงการ CoST | AD1: วิธีจัดซื้อจัดจ้าง
A2: กระบวนงาน | C2: ไม่สังกัดกระทรวง | E2: ด้านที่ 1 การพิจารณาอนุมัติ อนุญาตของทางราชการ | G2: เงินงบประมาณ | I2: เข้าร่วมโครงการ IP | K2: โอกาส (Likelihood) | M2: หน่วยงานระดับกรม/เทียบเท่า | O2: ต่ำ | Q2: ผ่านการอนุมัติแล้ว | S2: ดำเนินการแล้ว | U2: 1 | W2: ต่ำ | X2: เงินงบประมาณ | Z2: เข้าร่วมโครงการ IP | AB2: เข้าร่วมโครงการ CoST | AD2: ประกาศเชิญชวน -วิธีตลาดอิเล็กทรอนิกส์ (e-market)
A3: โครงการจัดซื้อจัดจ้าง | C3: ศปท. กระทรวงกลาโหม | E3: ด้านที่ 2 การใช้อำนาจและตำแหน่งหน้าที่ | G3: เงินนอกงบประมาณ | I3: มีแผนเข้าร่วมโครงการ IP | K3: ผลกระทบ (Impact) | M3: รัฐวิสาหกิจ | O3: ปานกลาง | Q3: ยังไม่ผ่านการอนุมัติ | S3: ยังไม่ได้ดำเนินการ | U3: 2 | W3: ปานกลาง | X3: เงินนอกงบประมาณ | Z3: มีแผนเข้าร่วมโครงการ IP | AB3: มีแผนเข้าร่วมโครงการ CoST | AD3: ประกาศเชิญชวน -วิธีประกวดราคาอิเล็กทรอนิกส์ (e-bidding)
C4: ศปท. กระทรวงการคลัง | E4: ด้านที่ 3 โครงการจัดชื้อจัดจ้าง | I4: เข้าร่วมโครงการ CoST | M4: องค์การมหาชน | O4: สูง | U4: 3 | W4: สูง | AD4: ประกาศเชิญชวน -วิธีประสอบราคา
C5: ศปท. กระทรวงการต่างประเทศ | E5: ด้านที่ 4 การบริหารงานบุคคล | I5: มีแผนเข้าร่วมโครงการ CoST | M5: หน่วยงานอื่นๆของรัฐ | O5: สูงมาก | U5: 4 | W5: สูงมาก | AD5: คัดเลือก
C6: ศปท. กระทรวงการท่องเที่ยวและกีฬา | M6: จังหวัด | O6: ไม่ระบุ | U6: 5 | AD6: เฉพาะเจาะจง
C7: ศปท. กระทรวงการพัฒนาสังคมและความมั่นคงของมนุษย์ | M7: องค์กรปกครองส่วนท้องถิ่น (กทม. สำนักงานเขต กทม และเมืองพัทยา)
C8: ศปท. กระทรวงการอุดมศึกษา วิทยาศาสตร์ วิจัยและนวัตกรรม
C9: ศปท. กระทรวงเกษตรและสหกรณ์
C10: ศปท. กระทรวงคมนาคม
C11: ศปท. กระทรวงดิจิทัลเพื่อเศรษฐกิจและสังคม
C12: ศปท. กระทรวงทรัพยากรธรรมชาติและสิ่งแวดล้อม
C13: ศปท. กระทรวงพลังงาน
C14: ศปท. กระทรวงพาณิชย์
C15: ศปท. กระทรวงมหาดไทย
C16: ศปท. กระทรวงยุติธรรม
C17: ศปท. กระทรวงแรงงาน
C18: ศปท. กระทรวงวัฒนธรรม
C19: ศปท. กระทรวงศึกษาธิการ
... C42: ศปท. สำนักเลขาธิการนายกรัฐมนตรี

Sheet 1แบบเสนอความเสี่ยงและกำหนดเกณฑ์
A1: แบบรายงานเสนอความเสี่ยงการทุจริตของหน่วยงาน
A3: กระบวนงาน/โครงการ | B3: ชื่อความเสี่ยง | C3: ศปท. กระทรวง | D3: ชื่อหน่วยงาน | E3: ประเภทหน่วยงาน | F3: ด้านประเภทความเสี่ยง
A4: โครงการจัดซื้อจัดจ้าง | B4: ซื้อครุภัณฑ์พร้อมติดตั้ง และจ้างปรับปรุงห้องประชุม | C4: ศปท. กระทรวงการพัฒนาสังคมและความมั่นคงของมนุษย์ | D4: สถาบันพัฒนาองค์กรชุมชน (องค์การมหาชน) | E4: องค์การมหาชน | F4: ด้านที่ 3 โครงการจัดชื้อจัดจ้าง
F5: =IF(F4="ด้านที่ 3 โครงการจัดชื้อจัดจ้าง","โปรดจัดทำแบบประมาณการงบประมาณ","") -> โปรดจัดทำแบบประมาณการงบประมาณ
A6: การกำหนดเกณฑ์การประเมินความเสี่ยงการทุจริต
A8: โอกาส/ผลกระทบ | B8: 1 | C8: 2 | D8: 3 | E8: 4 | F8: 5
A9: โอกาส (Likelihood) | B9: เหตุการณ์ไม่น่ามีโอกาสเกิดขึ้น (ไม่เกิดขึ้นเลย) | C9: เหตุการณ์ที่อาจเกิดขึ้นน้อยมาก (น้อยกว่าร้อยละ 3) | D9: เหตุการณ์ที่อาจเกิดขึ้นบางครั้ง (ร้อยละ 5) | E9: เหตุการณ์ที่อาจเกิดขึ้นได้สูง (ร้อยละ 10) | F9: เหตุการณ์ที่อาจเกิดได้สูงมาก (ร้อยละ 10 ขึ้นไป)
A10: ผลกระทบ (Impact) | B10: มีผลกระทบน้อย | C10: - ปรากฎข่าวลือที่อาจพาดพิงคนภายในหน่วยงาน มีคนร้องเรียน แจ้งเบาะแส - เริ่มมีความกังวลและสอบถามข้อมูล | D10: - หน่วยตรวจสอบของหน่วยงาน หรือหน่วยตรวจสอบจากภายนอกเข้าตรวจสอบข้อเท็จจริง - มีการส่งหนังสือร้องเรียนและตังคำถามต่อการทำงานโดยไม่ได้รับคำตอบที่ชัดเจน | E10: - ภาพลักษณ์ของหน่วยงานติดลบเรื่องความโปร่งใส - ร้องเรียนต่อหน่วยงานภาครัฐที่กำกับดูแล | F10: - เกิดความเสียหายต่อองค์กร เจ้าหน้าที่ถูกลงโทษชี้มูลความผิดเข้าสู่กระบวนการทางยุติธรรม - เกิดการฟ้องร้องต่อศาล หรือหน่วยงานกำกับดูแล องค์กรตรวจสอบทำการตรวจสอบความเสียหายที่เกิดขึ้น
E14: ลงชื่อ .....................................................................
E15: (นายกฤษดา สมประสงค์)
E16: ผู้อำนวยการ
E17: เบอร์โทรศัพท์ 02-378-8300-7
E18: (เป็นผู้รับผิดชอบจัดทำแผนบริหารความเสี่ยง)

Sheet 2ระบุประเด็นความเสี่ยง
A1: แบบรายงานการระบุประเด็นความเสี่ยงการทุจริต
A3: ='1แบบเสนอความเสี่ยงและกำหนดเกณฑ์'!C4 -> ศปท. กระทรวงการพัฒนาสังคมและความมั่นคงของมนุษย์ | B3: ='1แบบเสนอความเสี่ยงและกำหนดเกณฑ์'!D4 -> สถาบันพัฒนาองค์กรชุมชน (องค์การมหาชน)
A5: ชื่อความเสี่ยง | B5: ลำดับขั้นตอน | C5: ขั้นตอนการดำเนินงาน | D5: ประเด็นความเสี่ยงการทุจริต | E5: Risk Score (L x I)
E6: Likelihood | F6: Impact | G6: Risk Score | H6: ระดับความเสี่ยง
A7: ='1แบบเสนอความเสี่ยงและกำหนดเกณฑ์'!A4&" "&'1แบบเสนอความเสี่ยงและกำหนดเกณฑ์'!B4 -> โครงการจัดซื้อจัดจ้าง ซื้อครุภัณฑ์พร้อมติดตั้ง และจ้างปรับปรุงห้องประชุม | B7: 1 | C7: เหตุความจำเป็นในการจัดซื้อจัดจ้าง | D7: เจ้าหน้าที่พิจารณาเหตุผลความจำเป็นของงาน การจัดทำเอกสารประกอบทุกอย่างเพียงบุคคลเดียว อาจทำให้เหตุผลของงานไม่ตรงตามความต้องการหรือเป็นการเอื้อประโยชน์กบผู้ประกอบการบางรายและใช้เป็นช่องทางการเรียกรับผลประโยชน์หรือสินบน | E7: 1 | F7: 2 | G7: =E7*F7 -> 2 | H7: ต่ำ
B8: 2 | C8: กำหนดขอบเขตของงาน (TOR) และคุณลักษณะของงาน และกำหนดราคากลาง | D8: 2.1 เจ้าหน้าที่กำหนดคุณสมบัติบางรายการขึ้นมาเป็นกรณีพิเศษเพื่อกีดกันการแข่งขันทำให้มีการแข่งขันน้อยราย หรืออาจเอื้อประโยชน์โดยไม่ตั้งใจกับผู้ประกอบการบางราย | E8: 1 | F8: 4 | G8: =E8*F8 -> 4 | H8: สูง
D9: 2.2 เจ้าหน้าที่กำหนดปริมาณงานและรายการที่ไม่จำเป็นไว้ในขอบเขตของงาน ซึ่งอาจทำให้การใช้จ่ายงบประมาณไม่คุ้มค่า โปร่งใส ส่งผลให้มูลค่างานสูงกว่าความเป็นจริง | E9: 1 | F9: 5 | G9: =E9*F9 -> 5 | H9: สูง
B10: 3 | C10: การจัดทำรายงานขอซื้อขอจ้าง | D10: เจ้าหน้าที่ทำเอกสารประกอบการจัดทำรายงานขอจ้างเพียงบุคคลเดียว ส่งผลให้เอกสารอาจไม่ครบถ้วนตามที่กำหนดทั้งตั้งใจหรือไม่ตั้งใจ ซึ่งอาจทำให้เกิดการทุจริตขึ้นได้ | E10: 1 | F10: 2 | G10: =E10*F10 -> 2 | H10: ต่ำ
B11: 4 | C11: การจัดทำหนังสือเชิญยื่นข้อเสนอ | D11: เจ้าหน้าที่พิจารณารายชื่อผู้ประกอบการ เพื่อทำหนังสือเชิญยื่นข้อเสนอเพียงคนเดียว อาจทำให้องค์กรเสียโอกาส และใช้เป็นช่องทางการเรียกรับผลประโยชน์หรือสินบน | E11: 1 | F11: 2 | G11: =E11*F11 -> 2 | H11: ต่ำ
B12: 5 | C12: การตรวจสอบเอกสารและการพิจารณาเอกสารของผู้ประกอบการที่ยื่นข้อเสนอ | D12: 5.1 เจ้าหน้าที่ไม่พิจารณาผู้ยื่นข้อเสนอที่มีคุณสมบัติเหมาะสม ทั้งที่มีคุณสมบัติเป็นไปตามที่กำหนด เพื่อกีดกันการยื่นข้อเสนอ | E12: 1 | F12: 3 | G12: =E12*F12 -> 3 | H12: ปานกลาง
D13: 5.2 เจ้าหน้าที่นำเอกสารการยื่นข้อเสนอบางรายการของผู้ประกอบการออก ส่งผลให้ผู้ประกอบการขาดคุณสมบัติ และเป็นการกีดกันกายื่นข้อเสนอ | E13: 1 | F13: 3 | G13: =E13*F13 -> 3 | H13: ปานกลาง
D14: 5.3 เจ้าหน้าที่พิจารณาตรวจเอกสาร หรือพิจารณาผลการคัดเลือกผู้ยื่นข้อเสนอเพียงบุคคลเดียว ซึ่งอาจทำให้เกิดการทุจริตคอร์ปรับชั่น หรือเกิดการเรียกรับสินบนได้ / เจ้าหน้าที่ใช้ดุลย์พินิจในการตรวจสอบเอกสารการยื่นข้อเสนอไม่เป็นมาตรฐานเดียวกัน | E14: 1 | F14: 3 | G14: =E14*F14 -> 3 | H14: ปานกลาง
D15: 5.4 เจ้าหน้าที่ถูกแทรกเทรงจากบุคคลภายนอกให้เลือกผู้ประกอบการบางราย หรือพิจารณาผู้ประกอบการบางรายเป็นกรณีพิเศา เพื่อเป็นผู้ชนะการเสนอราคา | E15: 1 | F15: 3 | G15: =E15*F15 -> 3 | H15: ปานกลาง
B16: 6 | C16: การจัดทำรายงานผลการพิจารณาและขออนุมัติสั่งจ้าง / ประกาศผลผู้ชนะ | D16: เจ้าหน้าที่ทำเอกสารหรือนำเสนอไม่ครบถ้วน ส่งผลให้การพิจารณาอนุมัติผิดพลาด | E16: 1 | F16: 2 | G16: =E16*F16 -> 2 | H16: ต่ำ
B17: 7 | C17: การจัดทำสัญญา | D17: เจ้าหน้าที่พัสดุจัดทำร่างสัญญาไม่ครบถ้วน หรือไม่เป็นไปตามขอบเขตของงานที่กำหนดไว้ ส่งผลให้องค์กรเสียผลประโยชน์ | E17: 1 | F17: 2 | G17: =E17*F17 -> 2 | H17: ต่ำ
B18: 8 | C18: การบริหารสัญญา / การตรวจรับ / การส่งมอบงาน | D18: 8.1 เจ้าหน้าที่เปลี่ยนแปลงเงื่อนไขในสัญญา ส่งผลให้มีการเปลี่ยนแปลงระยะเวลาของสัญญา หรือรายละเอียดของงาน ซึ่งอาจเอื้อประโยชน์ให้กับผู้ประกอบการ และอาจใช้เป็นช่องทางในการเรียกรับผลประโยชน์หรือสนบน | E18: 1 | F18: 5 | G18: =E18*F18 -> 5 | H18: สูง
D19: 8.2 เจ้าหน้าที่เอื้อประโยชน์กับผู้ประกอบการโดยการตรวจรับงานที่ยังไม่สมบูรณ์ครบถ้วน (เช่น การประวิงเวลาในการตรวจรับงานออกไป หรือรับสินบนจากผู้ประกอบการเพื่อให้การตรวจรับงานถูกต้องในขณะที่งานไม่เป็นไปตามสัญญา) | E19: 1 | F19: 5 | G19: =E19*F19 -> 5 | H19: สูง

Sheet 3แผนบริหารจัดการความเสี่ยง
A1: แบบรายงานแผนบริหารจัดการความเสี่ยงการทุจริต
A3: ='1แบบเสนอความเสี่ยงและกำหนดเกณฑ์'!C4 -> ศปท. กระทรวงการพัฒนาสังคมและความมั่นคงของมนุษย์ | C3: ='1แบบเสนอความเสี่ยงและกำหนดเกณฑ์'!D4 -> สถาบันพัฒนาองค์กรชุมชน (องค์การมหาชน)
A5: การอนุมัติของผู้บริหาร | B5: การเผยแพร่ในเว็บไซต์หน่วยงาน | D5: Link เผยแพร่
A6: ยังไม่ผ่านการอนุมัติ | B6: ยังไม่ได้ดำเนินการ
A8: ขั้นตอน | B8: ประเด็นความเสี่ยง | C8: ระดับความเสี่ยง | D8: มาตรการควบคุมความเสี่ยงการทุจริต | E8: วิธีดำเนินการ | F8: ระยะเวลาดำเนินการ | G8: งบประมาณ (บาท) | H8: ผู้รับผิดชอบ
A9: 1. เหตุความจำเป็นในการจัดซื้อจัดจ้าง | B9: จ้าหน้าที่พิจารณาเหตุผลคามจำเป็นของงาน การจัดทำเอกสารประกอบทุกอย่างเพียงบุคคลเดียว อาจทำให้เหตุผลของงานไม่ตรงตามความต้องการหรือเป็นการเอื้อประโยชน์กบผู้ประกอบการบางรายและใช้เป็นช่องทางการเรียกรับผลประโยชน์หรือสินบน | C9: ต่ำ | D9: จัดทำแผนงานและงบประมาณ เพื่อเสนอสู่การพิจารณาของฝ่ายบริหาร | E9: จัดทำแผนงานงบประมาณประจำปีร่วมกับส่วนงานที่เกี่ยวข้อง | F9: 3 เดือน | G9: ไม่มีค่าใช้จ่าย | H9: ส่วนงานจัดซื้อจัดจ้าง
A10: 2. กำหนดขอบเขตของงาน (TOR) และคุณลักษณะของงาน และกำหนดราคากลาง | B10: 2.1 เจ้าหน้าที่กำหนดคุณสมบัติบางรายการขึ้นมาเป็นกรณีพิเศษเพื่อกีดกันการแข่งขันทำให้มีการแข่งขันน้อยราย หรืออาจเอื้อประโยชน์โดยไม่ตั้งใจกับผู้ประกอบการบางราย 2.2 เจ้าหน้าที่กำหนดปริมาณงานและรายการที่ไม่จำเป็นไว้ในขอบเขตของงาน ซึ่องอาจทำให้การใช้จ่ายงบประมาณไม่คุ้มค่า โปร่งใส ส่งผลให้มูลค่างานสูงกว่าความเป็นจริง | C10: สูง | D10: แต่งตั้งคณะกรรมการ เพื่อดำเนินการกำหนดขอบเขตของงาน (TOR) | E10: เสนอแต่งตั้งคณะกรรมการกำหนดขอบเขตของงาน (TOR) เพื่อดำเนินการกำหนดร่างขอบเขตของงาน รายละเอียดคุณลักษณะของพัสดุที่จะจัดซื้อจัดจ้าง | F10: 3 เดือน | G10: ไม่มีค่าใช้จ่าย | H10: ส่วนงานจัดซื้อจัดจ้าง
A11: 3. การจัดทำรายงานขอซื้อขอจ้าง | B11: เจ้าหน้าที่ทำเอกสารประกอบการจัดทำรายงานขอจ้างเพียงบุคคลเดียว ส่งผลให้เอกสารอาจไม่ครบถ้วนตามที่กำหนดทั้งตั้งใจหรือไม่ตั้งใจ ซึ่งอาจทำให้เกิดการทุจริตขึ้นได้ | C11: ต่ำ | D11: กำหนดให้ดทำรายงานขอซื้อขอจ้าง ผ่านระบบการจัดซื้อจัดจ้างภาครัฐ (e-GP) พร้อมทั้งจัดพิมพ์นำเสนอต่อผู้มีอำนาจอนุมัติ | E11: 1. เจ้าหน้าที่จัดทำรายงานขอซื้อขอจ้าง ผ่านระบบการจัดซื้อจัดจ้างภาครัฐ (e-GP) พร้อมทั้งพิมพ์นำเสนอต่อผู้มีอำนาจอนุมัติ 2. จัดส่งรายงานขอจ้างจะต้องจัดส่งผ่านสายงานบังคับบัญชาตามลำดับขั้นเพื่อให้พิจารณาก่อนนำเสนอให้ผู้มีอำนาจอนุมัติ | F11: 3 เดือน | G11: ไม่มีค่าใช้จ่าย | H11: งานพัสดุ สถาบัน
A12: 4. การจัดทำหนังสือเชิญยื่นข้อเสนอ | B12: 4.1 เจ้าหน้าที่พิจารณารายชื่อผู้ประกอบการ เพื่อทำหนังสือเชิญยื่นข้อเสนอเพียงคนเดียว อาจทำให้องค์กรเสียโอกาส และใช้เป็นช่องทางการเรียกรับผลประโยชน์หรือสินบน 4.2 เจ้าหน้าที่จัดส่งข้อมูลขอบเขตของงาน (TOR) หรือรายการของราคากลางไม่ครบถ้วน ส่งผลให้การเสนอรายละเอียดและราคาของผู้ผู้ประกอบการไม่ครบถ้วนตามที่กำหนด หรื่อไม่เป็นธรรมกับผู้ประกอบการ | C12: ต่ำ | D12: 1. กำหนดให้มีการจัดทำหนังสือเชิญยื่นข้อเสนอ และแนบแนบสำเนาขอบเขตของงาน (TOR) ที่มีลายมือชื่อคณะกรรมการกำหหนดร่างขอบเขตของงาน โดยจะต้องเสนอหนังสือผ่านสายงานบังคับบัญชาตามลำดับขั้นเพื่อให้พิจารณาก่อนนำเสนอผู้มีอำนาจลงนาม 2. กำหนดให้มีการจัดส่งหนังสือเชิญต่อผู้ประกอบการผ่านระบบไปรษณีย์อิเล็กทรอนิกส์ และไปรษณีย์ตอบรับ 3. กำหนดให้มีการจัดส่งหนังสือเชิญยื่นข้อเสนอต่อผู้ประกอบการทุกรายที่ส่วนงานจัดซื้อจัดจ้างสืบราคา | E12: 1. จัดทำหนังสือเชิญยื่นข้อเสนอ พร้อมแนบสำเนาขอบเขตของงาน (TOR) ที่มีลายมือชื่อคณะกรรมการกำหหนดร่างขอบเขตของงาน พร้อมสำเนาตารางราคากลาง 2. เสนอผู้มีอำนาจลงนามหนังสือเชิญยื่นข้อเสนอ ผ่านสายงานบังคับบัญชาตามลำดับขั้นเพื่อให้พิจารณาก่อนนำเสนอผู้มีอำนาจลงนาม 3. ดำเนินการจัดส่งหนังสือเชิญต่อผู้ประกอบการผ่านระบบไปรษณีย์อิเล็กทรอนิกส์ และไปรษณีย์ตอบรับ | F12: 3 เดือน | G12: ไม่มีค่าใช้จ่าย | H12: งานพัสดุ สถาบัน
A13: 5. การตรวจสอบเอกสารและการพิจารณาเอกสารของผู้ประกอบการที่ยื่นข้อเสนอ | B13: 5.1 เจ้าหน้าที่ไม่พิจารณาผู้ยื่นข้อเสนอที่มีคุณสมบัติเหมาะสม ทั้งที่มีคุณสมบัติเป็นไปตามที่กำหนด เพื่อกีดกันการยื่นข้อเสนอ 5.2 เจ้าหน้าที่นำเอกสารการยื่นข้อเสนอบางรายการของผู้ประกอบการออก ส่งผลให้ผู้ประกอบการขาดคุณสมบัติ และเป็นการกีดกันการยื่นข้อเสนอ 5.3 เจ้าหน้าที่พิจารณาตรวจเอกสาร หรือพิจารณาผลการคัดเลือกผู้ยื่นข้อเสนอเพียงบุคคลเดียว ซึ่งอาจทำให้เกิดการทุจริตคอร์ปรับชั่น หรือเกิดการเรียกรับสินบนได้ / เจ้าหน้าที่ใช้ดุลย์พินิจในการตรวจสอบเอกสารการยื่นข้อเสนอไม่เป็นมาตรฐานเดียวกัน อเป็นผู้ชนะการเสนอราคา | C13: ปานกลาง | D13: 1. แต่งตั้งคณะกรรมการการพิจารณาผลจัดซื้อหรือจ้างโดยวิธัดเลือก 2. กำหนดให้จัดทำตารางตรวจสอบเอกสารและคุณสมบัติผู้ยื่นข้อเสนอ และจัดทำรายงานผลการพิจารณาของคณะกรรมการ | E13: 1. เจ้าหน้าที่จัดทำคำสั่งสถาบันเสนอผู้มีอำนาจลงนามแต่งตั้งคณะกรรมการพิจารณาผลการซื้อหรือจ้างโดยวิธีคัดเลือก 2. กำหนดให้คณะกรรมการพิจารณาผลการซื้อหรือจ้างโดยวิธีคัดเลือกตรวจสอบเอกสารการยื่นข้อเสนอผู้ประกอบการทั้งหมดและลงนามกำกับเอกสารทุกฉบับ | F13: 3 เดือน | G13: ไม่มีค่าใช้จ่าย | H13: งานพัสดุ สถาบัน
B14: 5.4 เจ้าหน้าที่ถูกแทรกเทรงจากบุคคลภายนอกให้เลือกผู้ประกอบการบางราย หรือพิจารณาผู้ประกอบการบางรายเป็นกรณีพิเศษ เพื่อเป็นผู้ชนะการเสนอราคา
A15: 6. การจัดทำรายงานผลการพิจารณาและขออนุมัติสั่งซื้อสั่งจ้าง / ประกาศผลผู้ชนะ | B15: เจ้าหน้าที่ทำเอกสารหรือนำเสนอไม่ครบถ้วน ส่งผลให้การพิจารณาอนุมัติผิดพลาด | C15: ต่ำ | D15: จัดทำรายการผลคณะกรรมการซื้อหรือจ้างโดยวิธีคัดเลือก พร้อมเสนอผ่านผู้บังคับบัญชาตามลำดับขั้นตอนตรวจสอบก่อนเสนอผู้มีอำนาจพิจารณาอนุมัติ | E15: 1. คณะกรรมการซื้อหรือจ้างโดยวิธีคัดเลือก จัดทำรายงานผลการคัดเลือกผู้ยื่นข้อเสนอ พร้อมลงนาม 2. เจ้าหน้าที่พัสดุจัดทำรายงานผลการพิจารณาและขออนุมัติสั่งซื้อสั่งจ้าง พร้อมประกาศผลผู้ชนะ เสนอผู้บังคับบัญชาตามลำดับ 3. ผู้บังคับบัญชาตามลำดับขั้นตอนตรวจสอบข้อมูลผลการพิจารณาสั่งซื้อสั่งจ้าง ก่อนเสนอผู้มีอำนาจอนุมัติ | F15: 3 เดือน | G15: ไม่มีค่าใช้จ่าย | H15: งานพัสดุ สถาบัน
A16: 7. การจัดทำสัญญา | B16: เจ้าหน้าที่พัสดุจัดทำร่างสัญญาไม่ครบถ้วน หรือไม่เป็นไปตามขอบเขตของงานที่กำหนดไว้ ส่งผลให้องค์กรเสียผลประโยชน์ | C16: ต่ำ | D16: 1. กำหนดให้จัดทำร่างสัญญาผ่านระบบการจัดซื้อจัดจ้างภาครัฐ (e-GP) 2. กำหนดให้เสนอผู้บังคับบัญชาตามลำดับขั้นตอนตรวจสอบข้อมูลสัญญา ก่อนเสนอผู้มีอำนาจลงนาม | E16: เจ้าหน้าที่พัสดุจัดทำร่างสัญญาผ่านระบบการจัดซื้อจัดจ้างภาครัฐ (e-GP) และเสนอผู้บังคับบัญชาตามลำดับขั้นตอนตรวจสอบข้อมูลสัญญา ก่อนเสนอผู้มีอำนาจลงนาม | F16: 3 เดือน | G16: ไม่มีค่าใช้จ่าย | H16: งานพัสดุ สถาบัน
A17: 8. การบริหารสัญญา / การตรวจรับ / การส่งมอบงาน | B17: 1. เจ้าหน้าที่เปลี่ยนแปลงเงื่อนไขในสัญญา ส่งผลให้มีการเปลี่ยนแปลงระยะเวลาของสัญญา หรือรายละเอียดของงาน ซึ่งอาจเอื้อประโยชน์ให้กับผู้ประกอบการ และอาจใช้เป็นช่องทางในการเรียกรับผลประโยชน์หรือสนบน 2. เจ้าหน้าที่เอื้อประโยชน์กับผู้ประกอบการโดยการตรวจรับงานที่ยังไม่สมบูรณ์ครบถ้วน (เช่น การประวิงเวลาในการตรวจรับงานออกไป หรือรับสินบนจากผู้ประกอบการเพื่อให้การตรวจรับงานถูกต้องในขณะที่งานไม่เป็นไปตามสัญญา | C17: สูง | D17: ประชุมติดตามผลการดำเนินงานอย่างต่อเนื่อง | E17: 1. ประชุมคณะกรรมการตรวจรับพัสดุ และผู้เกี่ยวข้องสำหรับติดตามงานอย่างน้อย 1 ครั้งระหว่างงวดงาน หรือนัดประชุมเร่งด่วน เพื่อสรุปความก้าวหน้าของงาน ปัญหาอุปสรรคต่างๆ 2. ประชุมคณะกรรมาการตรวจรับพัสดุ และผู้เกี่ยวข้องในการพิจารณาตรวจรับการส่งมอบงานเมื่อสิ้นงวดงาน | F17: 3 เดือน | G17: ไม่มีค่าใช้จ่าย | H17: ส่วนงานจัดซื้อจัดจ้าง

Sheet แบบประมาณการงบประมาณ
A1: แบบรายงานที่ ๔ แบบรายงานประมาณการงบประมาณโครงการจัดชื้อจัดจ้าง
A3: แบบแสดงรายละเอียดประมาณการงบประมาณโครงการจัดชื้อจัดจ้าง ประจำปีงบประมาณ พ.ศ. 2567
B5: ศปท. กระทรวง | C5: ชื่อหน่วยงาน | D5: ส่วนราชการที่ดำเนินการจัดชื้อจัดจ้าง | E5: ชื่อโครงการ | F5: งบประมาณ (บาท) | G5: ประเภทงบประมาณ | H5: วิธีจัดซื้อจัดจ้าง | I5: ระยะเวลาดำเนินการ | J5: โครงการ IP | K5: โครงการ CoST
B6: ศปท. กระทรวงการพัฒนาสังคมและความมั่นคงของมนุษย์ | C6: สถาบันพัฒนาองค์กรชุมชน (องค์การมหาชน) | D6: ส่วนงานพัสดุ | E6: โครงการซื้อครุภัณฑ์พร้อมติดตั้ง และจ้างปรับปรุงห้องประชุม | F6: 2585289 | G6: เงินนอกงบประมาณ | H6: คัดเลือก | I6: มี.ค. - พ.ค. 67
A8: ที่ | B8: รายการ | C8: รายละเอียด (ประเภท จำนวน คุณลักษณะ(Spec) อื่นๆ) | D8: ประมาณการงบประมาณ (Cost breakdown) | E8: รวมงบประมาณ (บาท)
A9: 1 | B9: ปรับปรุงห้องประชุม 301-302 | C9: 1.1 เครื่องควบคุม สำหรับไมโครโฟนชุดประชุม จำนวน 1 เครื่อง 1.2 ไมโครโฟนชุดประชุม จำนวน 15 ชุด 1.3 เครื่องฉายมัลติมีเดียโปรเจคเตอร์ จำนวน 1 เครื่อง 1.4 กล้องชนิด (PTZ) จำนวน 1 ตัว 1.5 เครื่องสลับสัญญาณภาพและเสียง จำนวน 1 เครื่อง 1.6 อุปกรณ์กระจายสัญญาณแบบ PoE จำนวน 1 เครื่อง 1.7 อุปกรณ์เสริมและแปลงสัญญาณ จำนวน 1 ชุด 1.8 เครื่องกระจายสัญญาณภาพและเสียง จำนวน 1 เครื่อง 1.9 โทรทัศน์ แอลอีดี (LED TV) จำนวน 3 เครื่อง 1.10 เครื่องผสมสัญญาณเสียง (Mixer) จำนวน 1 เครื่อง 1.11 เครื่องขยายเสียงแบบสเตอริโอ 4 ช่อง จำนวน 1 เครื่อง 1.12 ลำโพง ชนิด 2 ทาง จำนวน 4 ตู้ 1.13 อุปกรณ์ประกอบการติดตั้งและงานติดตั้ง จำนวน 1 งาน | D9: 1352109 | E9: 1352109
A10: 2 | B10: ปรับปรุงห้องประชุม 303 | C10: 2.1 เครื่องสลับสัญญาณภาพและเสียง จำนวน 1 เครื่อง 2.2 กล้องชนิด PTZ จำนวน 1 ตัว 2.3 เครื่องคอมพิวเตอร์ all in One สำหรับงานสำนักงานพร้อมโปรแกรม Windows จำนวน 14 เครื่อง2.4 ปรับปรุงระบบไฟฟ้ารองรับการใช้งานคอมพิวเตอร์ จำนวน ๑ งาน 2.5 อุปกรณ์ประกอบการติดตั้งและงานติดตั้ง จำนวน 1 งาน | D10: 578000 | E10: 578000
A11: 3 | B11: ปรับปรุงห้องประชุมไพบูลย์วัฒนศิริธรรม | C11: 3.1 เครื่องฉายมัลติมีเดียโปรเจคเตอร์ จำนวน 2 เครื่อง 3.2 จอรับภาพแบบมอเตอร์ไฟฟ้า จำนวน 2 จอ 3.3 เครื่องสลับสัญญาณภาพและเสียง จำนวน 1 เครื่อง 3.4 เครื่องกระจายสัญญาณภาพและเสียง จำนวน 1 เครื่อง 3.5 กล้องวีดีโอความละเอียดสูงแบบ USB ( HD PTZ USB Camera ) จำนวน 1 ตัว 3.6 งานเดินสายและเปลี่ยนแจ็คคอนเน็คเตอร์ จำนวน 1 งาน | D11: 520180 | E11: 520180
A12: 4 | B12: ปรับปรุงห้องประชุมสำนักผู้อำนวยการ | C12: เก้าอี้สำหรับห้องประชุม จำนวน 15 ตัว | D12: 135000 | E12: 135000
D13: =SUM(D9:D12) -> 2585289 | E13: =SUM(D9:D12) -> 2585289

Sheet 5 รายงานผลการจัดการความเสี่ยง
A1: แบบรายงานผลการดำเนินการแผนบริหารจัดการความเสี่ยงการทุจริต
A3: ศปท. กระทรวง | B3: ชื่อหน่วยงาน | C3: การอนุมัติของผู้บริหาร | D3: การเผยแพร่ในเว็บไซต์หน่วยงาน | E3: Link เผยแพร่
A4: ='[1]1แบบเสนอความเสี่ยงและกำหนดเกณฑ์'!C4 -> ศปท. กระทรวงการพัฒนาสังคมและความมั่นคงของมนุษย์ | B4: ='[1]1แบบเสนอความเสี่ยงและกำหนดเกณฑ์'!D4 -> สถาบันพัฒนาองค์กรชุมชน (องค์การมหาชน)
A6: ขั้นตอน | B6: ระดับความเสี่ยง | C6: มาตรการควบคุมความเสี่ยงการทุจริต | D6: ผลการดำเนินการ
A7: 1. เหตุความจำเป็นในการจัดซื้อจัดจ้าง | B7: ต่ำ | C7: จัดทำแผนงานและงบประมาณ เพื่อเสนอสู่การพิจารณาของฝ่ายบริหาร | D7: 1. จัดทำแผนงานงบประมาณ ประจำปี 2567 เสนอคณะกรรมการสถาบันพัฒนาองค์กรชุมชน 2. ในการประชุมคณะกรรมการสถาบันพัฒนาองค์กรชุมชน ครั้งที่ 9/2566 เมื่อวันที่ 18 สิงหาคม 2566 มีมติเห็นชอบแผนปฏิบัติการ และอนุมัติงบประมาณ ประจำปีงบประมาณ พ.ศ. 2567 3. ขออนุมัติแผนการจัดซื้อจัดจ้าง ประจำปีงบประมาณ พ.ศ. 2567 เพิ่มเติม (ครั้งที่ 3) ตามบันทึกข้อความที่ บร 05/2179 ลงวันที่ 11 กันยายน 2566 “จ้างปรับปรุงห้องประชุมสถาบันพัฒนาองค์กรชุมชน” 4. ขออนุมัติเปลี่ยนแปลงแผนการจัดซื้อจัดจ้าง ประจำปีงบประมาณ พ.ศ. 2567 จากเดิม “จ้างปรับปรุงห้องประชุมสถาบันพัฒนาองค์กรชุมชน” เป็น “จัดซื้อครุภัณฑ์พร้อมติดตั้งและจ้างปรับปรุงห้องประชุม” ตามบันทึกข้อความที่ บร 05/3243 ลงวันที่ 27 กันยายน 2566 และประกาศเปลี่ยนแปลงเผยแพร่แผนการจัดซื้อจ้ดจ้าง ประจำปีงบประมาณ พ.ศ. 2567 ประกาศ ณ วันที่ 28 ธันวาคม 2566
A8: 2. กำหนดขอบเขตของงาน (TOR) และคุณลักษณะของงาน และกำหนดราคากลาง | B8: ปานกลาง | C8: แต่งตั้งคณะกรรมการ เพื่อดำเนินการกำหนดขอบเขตของงาน (TOR) | D8: 1. ขออนุมัติโครงการจัดซื้อครุภัณฑ์พร้อมติดตั้ง และจ้างปรับปรุงห้องประชุม วงเงินงบประมาณ 2,585,289.00 บาท (สองล้านห้าแสนแปดหมื่นห้าพันสองร้อยแปดสิบเก้าบาทถ้วน) และเห็นชอบรายชื่อคณะกรรมการร่างขอบเขตของงาน ตามบันทึกข้อความที่ บร 05/110 ลงวันที่ 15 มกราคม 2567 2. ประกาศเผยแพร่แผนการจัดซื้อจัดจ้าง ประจำปีงบประมาณ พ.ศ. 2567 ในระบบการจัดซื้อจัดจ้างภาครัฐ (e-GP) ตามบันทึกข้อความที่ บร 05/199 ลงวันที่ 24 มกราคม 2567 3. คำสั่งสถาบัน ที่ ง 7/2567 เรื่อง แต่งตั้งคณะกรรมการจัดทำร่างขอบเขตของงานจัดซื้อครุภัณฑ์พร้อมติดตั้ง และจ้างปรับปรุงห้องประชุม โดยวิธีคัดเลือก ลงวันที่ 26 มกราคม พ.ศ. 2567
A9: 3. การจัดทำรายงานขอซื้อขอจ้าง | B9: ต่ำ | C9: กำหนดให้ทำรายงานขอซื้อขอจ้าง ผ่านระบบการจัดซื้อจัดจ้างภาครัฐ (e-GP) พร้อมทั้งจัดพิมพ์นำเสนอต่อผู้มีอำนาจอนุมัติ | D9: 1. ขออนุมัติดำเนินการโครงการจัดซื้อครุภัณฑ์พร้อมติดตั้ง และจ้างปรับปรุงห้องประชุม ตามบันทึกข้อความที่ บร 05/477 ลงวันที่ 29 กุมภาพันธ์ 2567 ซึ่งประกอบด้วย 1) อนุมัติดำเนินการโครงการ 2) อนุมัติขอบเขตของงาน ((Terms of Reference :TOR) 3) อนุมัติราคากลาง 4) เห็นชอบรายชื่อคณะกรรมการพิจารณาผลการจ้างโดยวิธีคัดเลือก 5) เห็นชอบรายชื่อคณะกรรมการตรวจรับพัสดุ 2. รายงานการประชุมคณะกรรมการจัดทำร่างขอบเขตของงานจัดซื้อครุภัณฑ์พร้อมติดตั้ง และจ้างปรับปรุงห้องประชุม เมื่อวันที่ 6 กุมภาพันธ์ 2567 3. รายงานขอซื้อขอจ้าง ตามบันทึกข้อความที่ บร 05/564 ลงวันที่ 11 มีนาคม 2567 โดย 1) อนุมัติให้ดำเนินการซื้อครุภัณฑ์พร้อมติดตั้ง และจ้างปรับปรุงห้องประชุม โดยวิธีคัดเลือก 2) แต่งตั้งคณะกรรมการซื้อหรือจ้างโดยวิธีคัดเลือก และคณะกรรมการตรวจรับพัสดุ สำหรับการจัดซื้อครุภัณฑ์พร้อมติดตั้ง และจ้างปรับปรุงห้องประชุม ตามคำสั่งที่ ง 61/2567 ลงวันที่ 14 มีนาคม พ.ศ. 2567
A10: 4. การจัดทำหนังสือเชิญยื่นข้อเสนอ | B10: ต่ำ | C10: 1. กำหนดให้มีการจัดทำหนังสือเชิญยื่นข้อเสนอ และแนบแนบสำเนาขอบเขตของงาน (TOR) ที่มีลายมือชื่อคณะกรรมการกำหนดร่างขอบเขตของงาน โดยจะต้องเสนอหนังสือผ่านสายงานบังคับบัญชาตามลำดับขั้นเพื่อให้พิจารณาก่อนนำเสนอผู้มีอำนาจลงนาม 2. กำหนดให้มีการจัดส่งหนังสือเชิญต่อผู้ประกอบการผ่านระบบไปรษณีย์อิเล็กทรอนิกส์ และไปรษณีย์ตอบรับ 3. กำหนดให้มีการจัดส่งหนังสือเชิญยื่นข้อเสนอต่อผู้ประกอบการทุกรายที่ส่วนงานจัดซื้อจัดจ้างสืบราคา | D10: จัดทำหนังสือเชิญผู้ประกอบการยื่นข้อเสนอ พร้อมแนบขอบเขตของงาน (Terms of Referemce :TOR) ซื้อครุภัณฑ์พร้อมติดตั้ง และจ้างปรับปรุงห้องประชุม โดยมีลายมือชื่อคณะกรรมการกำหนดร่างขอบเขตของงานกำกับ และใบสรุปรายละเอียดการยื่นข้อเสนอ จำนวน 5 ราย ดังนี้ 1. บริษัท อิน-มีเดีย ออดิโอ จำกัด ตามหนังสือ ที่ พม 5305/1135 ลงวันที่ 14 มีนาคม 2567 2. บริษัท เอสทีพี อินตริเกต จำกัด ตามหนังสือ ที่ พม 5305/1136 ลงวันที่ 14 มีนาคม 2567 3. บริษัท เดอะเบสท์ มัลติมีเดีย โปรเฟสชั่นแนล จำกัด ตามหนังสือ ที่ พม 5305/1137 ลงวันที่ 14 มีนาคม 2567 4. บริษัท ดาด้าโปร คอมพิวเตอร์ ซิสเต็มส์ จำกัด ตามหนังสือ ที่ พม 5305/1138 ลงวันที่ 14 มีนาคม 2567 5. บริษัท ออวิส (ประเทศไทย) จำกัด ตามหนังสือ ที่ พม 5305/1139 ลงวันที่ 14 มีนาคม 2567 ทั้งนี้รายละเอียดขอบเขตของงาน (Terms of Referemce :TOR) ระบุราคากลาง และหลักเกณฑ์ในการพิจารณา
A11: 5. การตรวจสอบเอกสารและการพิจารณาเอกสารของผู้ประกอบการที่ยื่นข้อเสนอ | B11: ปานกลาง | C11: 1. แต่งตั้งคณะกรรมการการพิจารณาผลจัดซื้อหรือจ้างโดยวิธีคัดเลือก 2. กำหนดให้จัดทำตารางตรวจสอบเอกสารและคุณสมบัติผู้ยื่นข้อเสนอ และจัดทำรายงานผลการพิจารณาของคณะกรรมการ | D11: 1. คำสั่งสถาบัน ที่ ง 61/2567 เรื่อง แต่งตั้งคณะกรรมการซื้อหรือจ้างโดยวิธีคัดเลือก และคณะกรรมการตรวจรับพัสดุ สำหรับการจัดซื้อครุภัณฑ์พร้อมติดตั้ง และจ้างปรับปรุงห้องประชุม ลงวันที่ 14 มีนาคม พ.ศ. 2567 2. แบบตรวจสอบคุณสมบัติผู้เสนอราคาจัดซื้อครุภัณฑ์พร้อมติดตั้ง และจ้างปรับปรุงห้องประชุม 3. รายงานการประชุมคณะกรรมการซื้อหรือจ้างโดยวิธีคัดเลือก สำหรับการจัดซื้อครุภัณฑ์พร้อมติดตั้ง และจ้างปรับปรุงห้องประชุม เมื่อวันที่ 20 มีนาคม 2567
A12: 6. การจัดทำรายงานผลการพิจารณาและขออนุมัติสั่งซื้อสั่งจ้าง / ประกาศผลผู้ชนะ | B12: ต่ำ | C12: จัดทำรายการผลคณะกรรมการซื้อหรือจ้างโดยวิธีคัดเลือก พร้อมเสนอผ่านผู้บังคับบัญชาตามลำดับขั้นตอนตรวจสอบก่อนเสนอผู้มีอำนาจพิจารณาอนุมัติ | D12: 1. รายงานการประชุมคณะกรรมการซื้อหรือจ้างโดยวิธีคัดเลือก สำหรับการจัดซื้อครุภัณฑ์พร้อมติดตั้ง และจ้างปรับปรุงห้องประชุม ลงวันที่ 20 มีนาคม 2567 2. จัดทำรายงานผลการพิจารณาและขออนุมัติซื้อหรือจ้าง ตามบันทึกข้อความที่ บร 05/704 ลงวันที่ 27 มีนาคม 2567 โดยผู้มีอำนาจ 1) อนุมัติซื้อครุภัณฑ์พร้อมติดตั้ง และจ้างปรับปรุงห้องประชุม โดยวิธีคัดเลือก กับบริษัท อิน-มีเดีย ออดิโอ จำกัด ผู้ยืนข้อเสนอ ในราคา 2,565,860 บาท (สองล้านห้าแสนหกหมื่นห้าพันแปดร้อยหกสิบบาทถ้วน) 2) ลงนามแบบแจ้งผลการจัดซื้อจ้างจ้าง จำนวน 3 ฉบับ ได้แก่ (1) บริษัท อิน-มีเดีย ออดิโอ จำกัด ตามหนังสือที่ พม 5305/1311 ลงวันที่ 28 มีนาคม 2567 (2) บริษัท เอสทีพี อินตริเกต จำกัด ตามหนังสือที่ พม 5305/1312 ลงวันที่ 28 มีนาคม 2567 (3) บริษัท ดาต้าโปร คอมพิวเตอร์ ซิสเต็มส์ จำกัด ตามหนังสือที่ พม 5305/1313 ลงวันที่ 28 มีนาคม 2567 3) ประกาศผลผู้ชนะการเสนอราคา จัดซื้อครุภัณฑ์พร้อมติดตั้ง และจ้างปรับปรุงห้องประชุม โดยวิธีคัดเลือก ประกาศ ณ วันที่ 28 มีนาคม พ.ศ. 2567
A13: 7. การจัดทำสัญญา | B13: ต่ำ | C13: 1. กำหนดให้จัดทำร่างสัญญาผ่านระบบการจัดซื้อจัดจ้างภาครัฐ (e-GP) 2. กำหนดให้เสนอผู้บังคับบัญชาตามลำดับขั้นตอนตรวจสอบข้อมูลสัญญา ก่อนเสนอผู้มีอำนาจลงนาม | D13: 1. จัดทำร่างสัญญาผ่านระบบการจัดซื้อจัดจ้างภาครัฐ (e-GP) 2. หนังสือแจ้งลงนามในสัญญา ตาหนังสือ ที่ พม 5305/1492 ลงวันที่ 9 เมษายน 2567 3. สัญญาจัดซื้อครุภัณฑ์พร้อมติดตั้ง และจ้างปรับปรุงห้องประชุม สัญญาเลขที่ พอช.60/2567 ลงวันที่ 11 เมษายน 2567
A14: 8. การบริหารสัญญา / การตรวจรับ / การส่งมอบงาน | B14: ต่ำ | C14: ประชุมติดตามผลการดำเนินงานอย่างต่อเนื่อง | D14: การบริหารสัญญา ระยะเวลาดำเนินการ 60 วัน ตั้งแต่วันที่ 12 เมษายน - 10 มิถุนายน 2567 แบ่งการส่งมอบงานและเบิกจ่าย 2 งวด ดังนี้ งวดที่ 1 ส่งมอบงานภายใน 30 วัน ตรงกับวันที่ 11 พฤษภาคม 2567 งวดที่ 2 ส่งมอบงานมยใน 60 วันนับถัดจากวันลงนามในสัญญา ตรงกับวันที่ 10 มิถุนายน 2567 1. ประชุมคณะกรรมการตรวจรับพัสดุ และผู้เกี่ยวข้องสำหรับติดตามงาน จำนวน 2 ครั้ง 1) ครั้งที่ 1 เมื่อวันที่ เมื่อวันที่ 11 เมษายน 2567 ตรวจรับงาน งวดที่ 1 2) ครั้งที่ 2 เมื่อวันที่ 7 มิถุนายน 2567 ตรวจรับงานงวดที่ 2
D15: ทั้งนี้ จัดอบรมการใช้งานห้องประชุม เมื่อวันที่ 17 มิถุนายน 2567 โดยมีผู้เข้าร่วมอบรม จำนวน 55 คน
