Workbook
Name Name_Cr: #REF!
Name Name_Cr: #REF!
Name Name_Cr: #REF!
Name กระชัง: [1]จัดชั้น!#REF!

Sheet สรุปอนุมัติ+เบิกจ่าย
A1: ผลการอนุมัติและเบิกจ่าย (ตุลาคม - มกราคม 2565)
A3: ภาค | B3: สินเชื่อที่ได้รับการอนุมัติ | F3: สินเชื่อที่มีการเบิกจ่าย
B4: องค์กร | C4: ชุมชน | D4: ครัวเรือน | E4: จำนวนเงิน | F4: องค์กร | G4: จำนวนเงิน
A5: ภาคกรุงเทพฯปริมณฑลและตะวันออก | B5: 3 | C5: =3+1+5 -> 9 | D5: =43+13+54 -> 110 | E5: =+รายชื่อองค์กรที่ได้รับอนุมัติ!H7+รายชื่อองค์กรที่ได้รับอนุมัติ!H8+รายชื่อองค์กรที่ได้รับอนุมัติ!H16+รายชื่อองค์กรที่ได้รับอนุมัติ!H17 -> 41988944 | F5: 1 | G5: 13692000
A6: ภาคกลางและตะวันตก | B6: 5 | C6: =1+14+1 -> 16 | D6: =64+206+21 -> 291 | E6: =+รายชื่อองค์กรที่ได้รับอนุมัติ!H9+รายชื่อองค์กรที่ได้รับอนุมัติ!H10+รายชื่อองค์กรที่ได้รับอนุมัติ!H11+รายชื่อองค์กรที่ได้รับอนุมัติ!H12+รายชื่อองค์กรที่ได้รับอนุมัติ!H14 -> 77551737 | F6: 0 | G6: 0
A7: ภาคตะวันออกเฉียงเหนือ | B7: 2 | C7: =1+4 -> 5 | D7: =30+120 -> 150 | E7: =7625640+26424980 -> 34050620 | F7: 2 | G7: =8862600+4891906 -> 13754506
A8: ภาคใต้ | B8: 0 | C8: 0 | D8: 0 | E8: 0 | F8: 0 | G8: 0
A9: ภาคเหนือ | B9: 0 | C9: 0 | D9: 0 | E9: 0 | F9: 3 | G9: =+รายชื่อองค์ที่มีการเบิกจ่าย!G8+รายชื่อองค์ที่มีการเบิกจ่าย!G9+รายชื่อองค์ที่มีการเบิกจ่าย!G14 -> 19083060
A10: สำนักบ้านมั่นคงและที่ดิน (สลัม 4 ภาค) | B10: 0 | C10: 0 | D10: 0 | E10: 0 | F10: 3 | G10: =+รายชื่อองค์ที่มีการเบิกจ่าย!G6+รายชื่อองค์ที่มีการเบิกจ่าย!G12+รายชื่อองค์ที่มีการเบิกจ่าย!G15 -> 30077872
A11: สำนักพัฒนาที่อยู่อาศัยชุมชนริมคลอง | B11: 0 | C11: 0 | D11: 0 | E11: 0 | F11: 3 | G11: =12414527+59882500 -> 72297027
A12: รวม | B12: =SUM(B5:B11) -> 10 | C12: =SUM(C5:C11) -> 30 | D12: =SUM(D5:D11) -> 551 | E12: =SUM(E5:E11) -> 153591301 | F12: =SUM(F5:F11) -> 12 | G12: =SUM(G5:G11) -> 148904465

Sheet รายชื่อองค์กรที่ได้รับอนุมัติ
A1: รายชื่อองค์กรที่ได้รับอนุมัติสินเชื่อ
A2: ตั้งแต่เดือนตุลาคม - เดือนมกราคม 2565
A4: ลำดับที่ | B4: ชื่อองค์กร | C4: วัน เดือน ปี ที่ได้รับอนุมัติ | D4: วัตถุประสงค์ | E4: กรรมสิทธิ์ที่ดิน | F4: ผู้รับประโยชน์ | H4: วงเงินที่ได้รับอนุมัติ
F6: ชุมชน | G6: ครัวเรือน
A7: 1 | B7: สหกรณ์เคหสถานทุ่งบางกะปิ จำกัด กรุงเทพมหานคร รหัสองค์กร 100300540 | C7: 242815 | D7: ซื้อที่ดิน | E7: สหกรณ์ | F7: 3 | G7: 43 | H7: 10943750 | I7: กทม
C8: 242815 | D8: ปลูกสร้างบ้าน | H8: 10175638 | I8: กทม
A9: 2 | B9: สหกรณ์เคหสถานอ้อมน้อยสามัคคี จำกัด จังหวัดสมุทรสาคร รหัสองค์กร 100308902 | C9: 242815 | D9: ปลูกสร้างบ้าน | E9: สหกรณ์ | F9: 1 | G9: 64 | H9: 14040000 | I9: กลางตก
A10: =+A9+1 -> 3 | B10: สหกรณ์บ้านมั่นคงพร้อมเพรียงทรัพย์ จำกัด จังหวัดเพชรบุรี รหัสองค์กร 100308901 | C10: 242837 | D10: ปลูกสร้างบ้าน | E10: สหกรณ์ | F10: 4 | G10: 44 | H10: 11547943 | I10: กลางตก
A11: =+A10+1 -> 4 | B11: สหกรณ์บริการบ้านมั่นคงชุมชนร่วมพัฒนา จำกัด จังหวัดกาญจนบุรี รหัสองค์กร 100311355 | C11: 242853 | D11: ปลูกสร้างบ้าน | E11: ราชพัสดุ | F11: 1 | G11: 27 | H11: 7654140 | I11: กลางตก
A12: =+A11+1 -> 5 | B12: สหกรณ์เคหสถานบ้านมั่นคงชุมชนชะแมบพัฒนา จำกัด จังหวัดพระนครศรีอยุธยา รหัสองค์กร 100184877 | C12: 242853 | D12: ปลูกสร้างบ้าน | E12: สหกรณ์ | F12: 9 | G12: 135 | H12: 38185340 | I12: กลางตก
A13: =+A12+1 -> 6 | B13: สหกรณ์เคหะสถานสะดืออีสาน จำกัด จังหวัดมหาสารคาม รหัสองค์กร 100236766 | C13: 242857 | D13: ปลูกสร้างบ้าน | E13: ราชพัสดุ | F13: 1 | G13: 30 | H13: 7625640 | I13: อีสาน
A14: =+A13+1 -> 7 | B14: สหกรณ์เคหสถานบ้านมั่นคงชุมชนวังน้อยมั่นคง จำกัด จังหวัดพระนครศรีอยุธยา รหัสองค์กร 100184890 | C14: 242887 | D14: ปลูกสร้างบ้าน | E14: สหกรณ์ | F14: 1 | G14: 21 | H14: 6124314 | I14: กลางตก
A15: =+A14+1 -> 8 | B15: สหกรณ์เคหสถาน 4 ชุมชนเมืองไผ่ จำกัด จังหวัดขอนแก่น รหัสองค์กร 100310348 | C15: 242887 | D15: ปลูกสร้างบ้าน | E15: สหกรณ์ | F15: 4 | G15: 120 | H15: 26424980 | I15: อีสาน
A16: =+A15+1 -> 9 | B16: สหกรณ์เคหสถานบ้านมั่นคงเย็นอากาศ 2 จำกัด กรุงเทพมหานคร รหัสองค์กร 100138061 | C16: 242881 | D16: ปลูกสร้างบ้าน | E16: ราชพัสดุ | F16: 1 | G16: 13 | H16: 4426500 | I16: กทม
A17: =+A16+1 -> 10 | B17: สหกรณ์เคหสถานปู่เจ้าสมิงพราย จำกัด จังหวัดสมุทรปราการ รหัสองค์กร 100294189 | C17: 242916 | D17: ปลูกสร้างบ้าน | E17: สหกรณ์ | F17: 5 | G17: 54 | H17: 16443056 | I17: กทม
A18: รวมทั้งสิ้น | F18: =SUM(F7:F17) -> 30 | G18: =SUM(G7:G17) -> 551 | H18: =SUM(H7:H17) -> 153591301

Sheet รายชื่อองค์ที่มีการเบิกจ่าย
A1: รายชื่อองค์กรผู้ใช้สินเชื่อที่มีการเบิกจ่าย
A2: =+รายชื่อองค์กรที่ได้รับอนุมัติ!A2 -> ตั้งแต่เดือนตุลาคม - เดือนมกราคม 2565
A3: ลำดับ | B3: ชื่อองค์กรชุมชนผู้ใช้สินเชื่อ | C3: วัตถุประสงค์ ของการเบิก | D3: เลขที่สัญญา | E3: งวดที่เบิก | F3: วันที่จ่ายเงิน | G3: วงเงินที่ขอเบิก (บาท)
A4: 1 | B4: สหกรณ์บ้านมั่นคงเกาะสีชัง จำกัด | C4: ปลูกสร้างบ้าน | D4: บ39/004/2565 | E4: 1 | F4: 08 พ.ย. 64 | G4: 13692000 | H4: กทม
A5: 2 | B5: สหกรณ์เคหสถานชายคลองบางบัว จำกัด | C5: ปลูกสร้างบ้าน | D5: บ39/002/2565 | E5: 1 | F5: 12 พ.ย. 64 | G5: 12414527 | H5: คลอง
A6: 3 | B6: สหกรณ์เคหสถานเมืองใหม่มาลัยทอง จำกัด | C6: ปลูกสร้างบ้าน | D6: บ39/010/2565 | E6: 1 | F6: 30 พ.ย. 64 | G6: 6195018 | H6: สลัม
A7: 4 | B7: สหกรณ์เคหสถานโคกหินขาว จำกัด | C7: ปลูกสร้างบ้าน | D7: บ39/030/2564 | E7: 1 | F7: 17 พ.ย. 64 | G7: 8862600 | H7: อีสาน
A8: 5 | B8: สหกรณ์ชุมชนเคหสถานรุ่งเรืองทรัพย์ จำกัด | C8: ปลูกสร้างบ้าน | D8: บ39/020/2564 | E8: 2 | F8: 05 พ.ย. 64 | G8: 942000 | H8: เหนือ
A9: 6 | B9: สหกรณ์เคหสถานบ้านมั่นคงทะเลแก้ว จำกัด | C9: ปลูกสร้างบ้าน | D9: บ39/003/2565 | E9: 1 | F9: 04 พ.ย. 64 | G9: 13924200 | H9: เหนือ
A10: 7 | B10: สหกรณ์เคหะสถานบ้านร่วมใจ จำกัด | C10: ปลูกสร้างบ้าน | D10: บ39/011/2565 | E10: 1 | F10: 20 ธ.ค. 64 | G10: 4891906 | H10: อีสาน
A11: 8 | B11: สหกรณ์เคหสถานบ้านมั่นคงเพิ่มทรัพย์สินสมบุญ จำกัด | C11: ปลูกสร้างบ้าน | D11: บ39/001/2565 | E11: 1 | F11: 07 ธ.ค. 64 | G11: 6840000 | H11: คลอง
A12: 9 | B12: สหกรณ์เคหสถานบ้านมั่นคงภูมิใจ จำกัด | C12: ปลูกสร้างบ้าน | D12: บ39/014/2565 | E12: 1 | F12: 27 ธ.ค. 64 | G12: 16688564 | H12: สลัม
A13: 10 | B13: สหกรณ์เคหสถานชุมชนประชาร่วมใจ 1 จำกัด | C13: ปลูกสร้างบ้าน | D13: บ39/008/2565 | E13: 1 | F13: 02 ธ.ค. 64 | G13: 53042500 | H13: คลอง
A14: 11 | B14: สหกรณ์เคหสถานชุมชนบ้านมั่นคงหน้าวัดนครสวรรค์ จำกัด | C14: ปลูกสร้างบ้าน | D14: บ39/021/2564 | E14: 2 | F14: 25 ม.ค. 65 | G14: 4216860 | H14: เหนือ
A15: 12 | B15: กลุ่มออมทรัพย์ฟ้าใหม่ร่วมใจพัฒนา | C15: ปลูกสร้างบ้าน | D15: บ39/016/2564 | E15: 2 | F15: 31 ม.ค. 65 | G15: 7194290 | H15: สลัม
A16: 13
A17: 14
A18: รวมจำนวนเงิน | G18: =SUM(G4:G17) -> 148904465

Sheet สรุปโครงการที่ผ่านการพิจารณา
A1: สรุปโครงการที่ได้รับความเห็นชอบวงเงินสินเชื่อ
A2: =+รายชื่อองค์กรที่ได้รับอนุมัติ!A2 -> ตั้งแต่เดือนตุลาคม - เดือนมกราคม 2565
A4: กลไกการพิจารณาให้ความเห็นชอบ | C4: องค์กร | D4: ผู้รับประโยชน์ | F4: วงเงินสินเชื่อ
D5: ชุมชน | E5: ครัวเรือน
A6: 1 | B6: คณะทำงานกลั่นกรองโครงการสินเชื่อ (สินเชื่อวงเงินไม่เกิน 10 ล้านบาท) | C6: =+ข้อมูลโครงการที่ผ่านการพิจารณา!A7 -> 1 | D6: =+ข้อมูลโครงการที่ผ่านการพิจารณา!D8 -> 3 | E6: =+ข้อมูลโครงการที่ผ่านการพิจารณา!E8 -> 14 | F6: =+ข้อมูลโครงการที่ผ่านการพิจารณา!G8 -> 4463200
A7: 2 | B7: คณะอนุกรรมการสินเชื่อ (สินเชื่อวงเงินเกิน 10 ล้านบาทขึ้นไป แต่ไม่เกิน 50 ล้านบาท) | C7: =+ข้อมูลโครงการที่ผ่านการพิจารณา!A12 -> 3 | D7: =+ข้อมูลโครงการที่ผ่านการพิจารณา!D13 -> 10 | E7: =+ข้อมูลโครงการที่ผ่านการพิจารณา!E13 -> 128 | F7: =+ข้อมูลโครงการที่ผ่านการพิจารณา!G13 -> 45903300
A8: 3 | B8: คณะกรรมการสถาบัน (สินเชื่อวงเงินเกิน 50 ล้านบาทขึ้นไป) | C8: =+ข้อมูลโครงการที่ผ่านการพิจารณา!A15 -> 0 | D8: =+ข้อมูลโครงการที่ผ่านการพิจารณา!D16 -> 0 | E8: =+ข้อมูลโครงการที่ผ่านการพิจารณา!E16 -> 0 | F8: =+ข้อมูลโครงการที่ผ่านการพิจารณา!G16 -> 0
A9: รวม | C9: =SUM(C6:C8) -> 4 | D9: =SUM(D6:D8) -> 13 | E9: =SUM(E6:E8) -> 142 | F9: =SUM(F6:F8) -> 50366500

Sheet ข้อมูลโครงการที่ผ่านการพิจารณา
A1: รายชื่อองค์กรที่ได้รับความเห็นชอบวงเงินสินเชื่อ
A2: =+สรุปโครงการที่ผ่านการพิจารณา!A2 -> ตั้งแต่เดือนตุลาคม - เดือนมกราคม 2565
A4: ลำดับ | B4: ชื่อองค์กรชุมชน | C4: จังหวัด | D4: สมาชิกผู้รับประโยชน์ | F4: วัตถุประสงค์ | G4: วงเงินสินเชื่อ | H4: ประเภทโครงการ
D5: ชุมชน | E5: ครัวเรือน
A6: คณะทำงานกลั่นกรองโครงการสินเชื่อ
A7: 1 | B7: สหกรณ์เคหสถานคลองบางปู จำกัด | C7: สมุทรปราการ | D7: 3 | E7: 14 | F7: ปลูกสร้างบ้าน | G7: 4463200 | H7: สินเชื่อพัฒนาที่อยู่อาศัย (โครงการบ้านมั่นคง)
A8: รวม | D8: =SUM(D7:D7) -> 3 | E8: =SUM(E7:E7) -> 14 | F8: - | G8: =SUM(G7:G7) -> 4463200
A9: คณะอนุกรรมการสินเชื่อ
A10: 1 | B10: สหกรณ์เคหสถานหลัง ม.เกษตร จำกัด | C10: กรุงเทพมหานคร | D10: 1 | E10: 53 | F10: ปลูกสร้างบ้าน ที่ราชพัสดุ | G10: 19339500 | H10: สินเชื่อพัฒนาที่อยู่อาศัย (โครงการบ้านมั่นคง)
A11: =+A10+1 -> 2 | B11: กลุ่มออมทรัพย์ฟ้าใหม่ร่วมใจพัฒนา | C11: กรุงเทพมหานคร | D11: 8 | E11: 45 | F11: ปลูกสร้างบ้าน ที่การรถไฟ | G11: 15424200 | H11: สินเชื่อพัฒนาที่อยู่อาศัย (โครงการบ้านมั่นคง)
A12: =+A11+1 -> 3 | B12: สหกรณ์เคหสถานตลาดหลักสี่ จำกัด | C12: กรุงเทพมหานคร | D12: 1 | E12: 30 | F12: ปลูกสร้างบ้าน ที่ราชพัสดุ | G12: 11139600 | H12: สินเชื่อพัฒนาที่อยู่อาศัย (โครงการพัฒนาที่อยู่อาศัยชุมชนริมคลองเปรมประชากร)
A13: รวม | D13: =SUM(D10:D12) -> 10 | E13: =SUM(E10:E12) -> 128 | F13: - | G13: =SUM(G10:G12) -> 45903300
A14: คณะกรรมการสถาบัน
A16: รวม | D16: =SUM(D15:D15) -> 0 | E16: =SUM(E15:E15) -> 0 | F16: - | G16: =SUM(G15:G15) -> 0
A18: รวมวงเงินทั้งสิ้น | D18: =+D13+D8+D16 -> 13 | E18: =+E13+E8+E16 -> 142 | F18: - | G18: =+G13+G8+G16 -> 50366500

Sheet สรุปโครงการที่ผ่านความเห็นชอบ
A1: สรุปโครงการที่ได้รับความเห็นชอบวงเงินสินเชื่อ
A2: ตั้งแต่เดือนตุลาคม 2563 ถึงเดือนมีนาคม 2564
A4: กลไกที่ให้ความเห็นชอบ | C4: องค์กร | D4: วงเงินสินเชื่อ
A6: 1 | B6: สินเชื่อพัฒนาที่อยู่อาศัย (โครงการบ้านมั่นคง) | C6: 3 | D6: 18950319
A7: 2 | B7: สินเชื่อพัฒนาที่อยู่อาศัย (โครงการพัฒนาที่อยู่อาศัยริมคลองเปรมประชากร) | C7: 8 | D7: 443958482
A8: 3 | B8: สินเชื่อพัฒนาที่อยู่อาศัย (โครงการพัฒนาที่อยู่อาศัยริมคลองลาดพร้าว) | C8: 3 | D8: 52542600
A9: รวม | C9: =SUM(C6:C8) -> 14 | D9: =SUM(D6:D8) -> 515451401

Sheet รายชื่อโครงการ
A1: รายชื่อองค์กรที่ได้รับความเห็นชอบวงเงินสินเชื่อ
A2: =+สรุปโครงการที่ผ่านการพิจารณา!A2 -> ตั้งแต่เดือนตุลาคม - เดือนมกราคม 2565
A4: ลำดับ | B4: ชื่อองค์กรชุมชน | C4: จังหวัด | D4: สมาชิกผู้รับประโยชน์ | F4: วงเงินสินเชื่อ | G4: วัตถุประสงค์
D5: ชุมชน | E5: ครัวเรือน
A6: สินเชื่อพัฒนาที่อยู่อาศัย (โครงการบ้านมั่นคง)
A7: 1 | B7: สหกรณ์เคหะสถานบ้านร่วมใจ จำกัด | C7: กาฬสินธุ์ | D7: 1 | E7: 23 | F7: 6305319 | G7: ปลูกสร้างบ้าน 19 ครัวเรือน (5,755,319 บาท) และต่อเติมบ้าน 4 ครัวเรือน (550,000 บาท)
A8: 2 | B8: กลุ่มออมทรัพย์เพื่อที่อยู่อาศัยตำบลตลิ่งชัน | C8: สระบุรี | D8: 1 | E8: 80 | F8: 6300000 | G8: ซื้อที่ดิน
A9: 3 | B9: สหกรณ์เคหสถานบ้านมั่นคงชุมชนชะแมบพัฒนา จำกัด (โครงการ 2) | C9: พระนครศรีอยุธยา | D9: 1 | E9: 135 | F9: 6345000 | G9: ซื้อที่ดิน
A10: รวม | D10: =SUM(D7:D9) -> 3 | E10: =SUM(E7:E9) -> 238 | F10: =SUM(F7:F9) -> 18950319 | G10: -
A11: สินเชื่อพัฒนาที่อยู่อาศัย (โครงการพัฒนาที่อยู่อาศัยริมคลองเปรมประชากร)
A12: 1 | B12: สหกรณ์เคหสถานบ้านมั่นคงชุมชนวัดรังสิต จำกัด | C12: ปทุมธานี | D12: 1 | E12: 158 | F12: 56880000 | G12: ปลูกสร้างบ้าน บนที่ดินราชพัสดุ
A13: 2 | B13: สหกรณ์เคหสถานบ้านมั่นคงประเสริฐเปรมประชา จำกัด | C13: กรุงเทพมหานคร | D13: 1 | E13: 136 | F13: 52904000 | G13: ปลูกสร้างบ้าน บนที่ดินราชพัสดุ
A14: 3 | B14: สหกรณ์เคหสถานศิษย์หลวงปู่ขาว จำกัด | C14: กรุงเทพมหานคร | D14: 1 | E14: 150 | F14: 56030532 | G14: ปลูกสร้างบ้าน บนที่ดินราชพัสดุ
A15: 4 | B15: สหกรณ์เคหสถานร่มไทรงามพัฒนา จำกัด กรุงเทพฯ | C15: กรุงเทพมหานคร | D15: 1 | E15: 281 | F15: 104340920 | G15: ปลูกสร้างบ้าน บนที่ดินราชพัสดุ
A16: 5 | B16: สหกรณ์เคหสถานทำนบสตรีเหล็กร่วมพัฒนา จำกัด | C16: กรุงเทพมหานคร | D16: 2 | E16: 154 | F16: 58808750 | G16: ปลูกสร้างบ้าน บนที่ดินราชพัสดุ
A17: 6 | B17: สหกรณ์เคหสถานประชากร 3 จำกัด | C17: กรุงเทพมหานคร | D17: 1 | E17: 158 | F17: 61462000 | G17: ปลูกสร้างบ้าน บนที่ดินราชพัสดุ
A18: 7 | B18: สหกรณ์เคหสถานพัฒนา 99 มีสุขร่วมใจ จำกัด | C18: กรุงเทพมหานคร | D18: 1 | E18: 74 | F18: 26212720 | G18: ปลูกสร้างบ้าน บนที่ดินราชพัสดุ
A19: 8 | B19: สหกรณ์เคหสถานตลาดหลักสี่ จำกัด | C19: กรุงเทพมหานคร | D19: 1 | E19: 74 | F19: 27319560 | G19: ปลูกสร้างบ้าน บนที่ดินราชพัสดุ
A20: รวม | D20: =SUM(D12:D19) -> 9 | E20: =SUM(E12:E19) -> 1185 | F20: =SUM(F12:F19) -> 443958482 | G20: -
A21: สินเชื่อพัฒนาที่อยู่อาศัย (โครงการพัฒนาที่อยู่อาศัยริมคลองลาดพร้าว)
A22: 1 | B22: สหกรณ์เคหสถานบ้านมั่นคงเพิ่มทรัพย์สินสมบุญ จำกัด (กอ.ชช.พัฒนาหมู่ 1 กลุ่ม 2) | C22: กรุงเทพมหานคร | D22: 1 | E22: 19 | F22: 6840000 | G22: ปลูกสร้างบ้าน บนที่ดินราชพัสดุ
A23: 9 | B23: สหกรณ์เคหสถานบ้านเราสายไหม 50 จำกัด | C23: กรุงเทพมหานคร | D23: 1 | E23: 158 | F23: 36309000 | G23: ปลูกสร้างบ้าน บนที่ดินราชพัสดุ
A24: 3 | B24: สหกรณ์เคหสถานบ้านมั่นคงสิทธิชุมชนคนริมคลอง จำกัด | C24: กรุงเทพมหานคร | D24: 6 | E24: 57 | F24: 9393600 | G24: ปลูกสร้างบ้าน บนที่ดินราชพัสดุ
A25: รวม | D25: =SUM(D22:D24) -> 8 | E25: =SUM(E22:E24) -> 234 | F25: =SUM(F22:F24) -> 52542600 | G25: -
A27: รวมวงเงินทั้งสิ้น | D27: =+D20+D10+D25 -> 20 | E27: =+E20+E10+E25 -> 1657 | F27: =+F20+F10+F25 -> 515451401 | G27: -
