Workbook
Name Name_Cr: #REF!
Name Name_Cr: #REF!
Name Name_Cr: #REF!
Name กระชัง: [1]จัดชั้น!#REF!

Sheet สรุปอนุมัติ+เบิกจ่าย
A1: ผลการอนุมัติและเบิกจ่ายสะสม (ปีงบประมาณ 2565)
A3: ภาค | B3: สินเชื่อที่ได้รับการอนุมัติ | F3: สินเชื่อที่มีการเบิกจ่าย
B4: องค์กร | C4: ชุมชน | D4: ครัวเรือน | E4: จำนวนเงิน | F4: องค์กร | G4: จำนวนเงิน
A5: ภาคกรุงเทพฯปริมณฑลและตะวันออก | B5: 1 | C5: 3 | D5: 43 | E5: 21119388 | F5: 0 | G5: 0
A6: ภาคกลางและตะวันตก | B6: 1 | C6: 1 | D6: 64 | E6: 14040000 | F6: 0 | G6: 0
A7: ภาคตะวันออกเฉียงเหนือ | B7: 0 | C7: 0 | D7: 0 | E7: 0 | F7: 0 | G7: 0
A8: ภาคใต้ | B8: 0 | C8: 0 | D8: 0 | E8: 0 | F8: 0 | G8: 0
A9: ภาคเหนือ | B9: 0 | C9: 0 | D9: 0 | E9: 0 | F9: 0 | G9: 0
A10: สำนักบ้านมั่นคงและที่ดิน (สลัม 4 ภาค) | B10: 0 | C10: 0 | D10: 0 | E10: 0 | F10: 0 | G10: 0
A11: สำนักพัฒนาที่อยู่อาศัยชุมชนริมคลอง | B11: 0 | C11: 0 | D11: 0 | E11: 0 | F11: 0 | G11: 0
A12: รวม | B12: =SUM(B5:B11) -> 2 | C12: =SUM(C5:C11) -> 4 | D12: =SUM(D5:D11) -> 107 | E12: =SUM(E5:E11) -> 35159388 | F12: =SUM(F5:F11) -> 0 | G12: =SUM(G5:G11) -> 0

Sheet รายชื่อองค์กรที่ได้รับอนุมัติ
A1: รายชื่อองค์กรที่ได้รับอนุมัติสินเชื่อ
A2: เดือนตุลาคม 2564
A4: ลำดับที่ | B4: ชื่อองค์กร | C4: วัน เดือน ปี ที่ได้รับอนุมัติ | D4: วัตถุประสงค์ | E4: กรรมสิทธิ์ที่ดิน | F4: ผู้รับประโยชน์ | H4: วงเงินที่ได้รับอนุมัติ
F6: ชุมชน | G6: ครัวเรือน
A7: 1 | B7: สหกรณ์เคหสถานทุ่งบางกะปิ จำกัด กรุงเทพมหานคร รหัสองค์กร 100300540 | C7: 242815 | D7: ซื้อที่ดิน | E7: สหกรณ์ | F7: 3 | G7: 43 | H7: 10943750
C8: 242815 | D8: ปลูกสร้างบ้าน | H8: 10175638
A9: 2 | B9: สหกรณ์เคหสถานอ้อมน้อยสามัคคี จำกัด จังหวัดสมุทรสาคร รหัสองค์กร 100308902 | C9: 242815 | D9: ปลูกสร้างบ้าน | E9: สหกรณ์ | F9: 1 | G9: 64 | H9: 14040000
A10: รวมทั้งสิ้น | F10: =SUM(F7:F9) -> 4 | G10: =SUM(G7:G9) -> 107 | H10: =SUM(H7:H9) -> 35159388

Sheet รายชื่อองค์ที่มีการเบิกจ่าย
A1: รายชื่อองค์กรผู้ใช้สินเชื่อที่มีการเบิกจ่าย
A2: =+รายชื่อองค์กรที่ได้รับอนุมัติ!A2 -> เดือนตุลาคม 2564
A3: ลำดับ | B3: ชื่อองค์กรชุมชนผู้ใช้สินเชื่อ | C3: วัตถุประสงค์ ของการเบิก | D3: เลขที่สัญญา | E3: งวดที่เบิก | F3: วันที่จ่ายเงิน | G3: วงเงินที่ขอเบิก (บาท)
A4: 1 | H4: สลัม
A5: 2 | H5: อีสาน
A6: 3 | H6: อีสาน
A7: 4 | H7: คลอง
A8: 5 | H8: เหนือ
A9: 6 | H9: กทม
A10: 7 | H10: กทม
A11: 8 | H11: ตก
A12: 9
A13: 10
A14: 11
A15: 12
A16: 13
A17: 14
A18: รวมจำนวนเงิน | G18: =SUM(G4:G17) -> 0

Sheet สรุปโครงการที่ผ่านการพิจารณา
A1: สรุปโครงการที่ได้รับความเห็นชอบวงเงินสินเชื่อ
A2: =+รายชื่อองค์กรที่ได้รับอนุมัติ!A2 -> เดือนตุลาคม 2564
A4: กลไกการพิจารณาให้ความเห็นชอบ | C4: องค์กร | D4: ผู้รับประโยชน์ | F4: วงเงินสินเชื่อ
D5: ชุมชน | E5: ครัวเรือน
A6: 1 | B6: คณะทำงานกลั่นกรองโครงการสินเชื่อ (สินเชื่อวงเงินไม่เกิน 10 ล้านบาท) | C6: =+ข้อมูลโครงการที่ผ่านการพิจารณา!A8 -> 2 | D6: =+ข้อมูลโครงการที่ผ่านการพิจารณา!D9 -> 4 | E6: =+ข้อมูลโครงการที่ผ่านการพิจารณา!E9 -> 41 | F6: =+ข้อมูลโครงการที่ผ่านการพิจารณา!G9 -> 12117340
A7: 2 | B7: คณะอนุกรรมการสินเชื่อ (สินเชื่อวงเงินเกิน 10 ล้านบาทขึ้นไป แต่ไม่เกิน 50 ล้านบาท) | C7: =+ข้อมูลโครงการที่ผ่านการพิจารณา!A16 -> 6 | D7: =+ข้อมูลโครงการที่ผ่านการพิจารณา!D17 -> 21 | E7: =+ข้อมูลโครงการที่ผ่านการพิจารณา!E17 -> 282 | F7: =+ข้อมูลโครงการที่ผ่านการพิจารณา!G17 -> 72592433
A8: 3 | B8: คณะกรรมการสถาบัน (สินเชื่อวงเงินเกิน 50 ล้านบาทขึ้นไป) | C8: =+ข้อมูลโครงการที่ผ่านการพิจารณา!A19 -> 1 | D8: =+ข้อมูลโครงการที่ผ่านการพิจารณา!D20 -> 6 | E8: =+ข้อมูลโครงการที่ผ่านการพิจารณา!E20 -> 135 | F8: =+ข้อมูลโครงการที่ผ่านการพิจารณา!G20 -> 38185340
A9: รวม | C9: =SUM(C6:C8) -> 9 | D9: =SUM(D6:D8) -> 31 | E9: =SUM(E6:E8) -> 458 | F9: =SUM(F6:F8) -> 122895113

Sheet ข้อมูลโครงการที่ผ่านการพิจารณา
A1: รายชื่อองค์กรที่ได้รับความเห็นชอบวงเงินสินเชื่อ
A2: =+สรุปโครงการที่ผ่านการพิจารณา!A2 -> เดือนตุลาคม 2564
A4: ลำดับ | B4: ชื่อองค์กรชุมชน | C4: จังหวัด | D4: สมาชิกผู้รับประโยชน์ | F4: วัตถุประสงค์ | G4: วงเงินสินเชื่อ | H4: ประเภทโครงการ
D5: ชุมชน | E5: ครัวเรือน
A6: คณะทำงานกลั่นกรองโครงการสินเชื่อ
A7: 1 | B7: กลุ่มออมทรัพย์ชุมชนร่วมพัฒนา | C7: กาญจนบุรี | D7: 1 | E7: 27 | F7: ปลูกสร้างบ้าน | G7: 7654140 | H7: สินเชื่อพัฒนาที่อยู่อาศัย (โครงการบ้านมั่นคง)
A8: 2 | B8: สหกรณ์เคหสถานคลองบางปู จำกัด | C8: สมุทรปราการ | D8: 3 | E8: 14 | F8: ปลูกสร้างบ้าน | G8: 4463200 | H8: สินเชื่อพัฒนาที่อยู่อาศัย (โครงการบ้านมั่นคง)
A9: รวม | D9: =SUM(D7:D8) -> 4 | E9: =SUM(E7:E8) -> 41 | F9: - | G9: =SUM(G7:G8) -> 12117340
A10: คณะอนุกรรมการสินเชื่อ
A11: 1 | B11: สหกรณ์บ้านมั่นคงพร้อมเพรียงทรัพย์ จำกัด | C11: เพชรบุรี | D11: 4 | E11: 44 | F11: ปลูกสร้างบ้าน | G11: 11547943 | H11: สินเชื่อพัฒนาที่อยู่อาศัย (โครงการบ้านมั่นคง)
A12: 2 | B12: สหกรณ์เคหสถานบ้านมั่นคงชุมชนวังน้อยมั่นคง จำกัด | C12: พระนครศรีอยุธยา | D12: 5 | E12: 21 | F12: ปลูกสร้างบ้าน | G12: 6124314 | H12: สินเชื่อพัฒนาที่อยู่อาศัย (โครงการบ้านมั่นคง)
A13: 3 | B13: สหกรณ์เคหะสถานสะดืออีสาน จำกัด | C13: มหาสารคาม | D13: 1 | E13: 30 | F13: ปลูกสร้างบ้าน | G13: 7625640 | H13: สินเชื่อพัฒนาที่อยู่อาศัย (โครงการบ้านมั่นคง)
A14: 4 | B14: สหกรณ์เคหสถานปู่เจ้าสมิงพราย จำกัด | C14: สมุทรปราการ | D14: 5 | E14: 54 | F14: ปลูกสร้างบ้าน | G14: 16443056 | H14: สินเชื่อพัฒนาที่อยู่อาศัย (โครงการบ้านมั่นคง)
A15: 5 | B15: กลุ่มออมทรัพย์ชุมชนเย็นอากาศ 2 | C15: กรุงเทพมหานคร | D15: 1 | E15: 13 | F15: ปลูกสร้างบ้าน | G15: 4426500 | H15: สินเชื่อพัฒนาที่อยู่อาศัย (โครงการบ้านมั่นคง)
A16: 6 | B16: สหกรณ์เคหสถาน 4 ชุมชนเมืองไผ่ จำกัด | C16: ขอนแก่น | D16: 5 | E16: 120 | F16: ปลูกสร้างบ้าน | G16: 26424980 | H16: สินเชื่อพัฒนาที่อยู่อาศัย (โครงการบ้านมั่นคง)
A17: รวม | D17: =SUM(D11:D16) -> 21 | E17: =SUM(E11:E16) -> 282 | F17: - | G17: =SUM(G11:G16) -> 72592433
A18: คณะกรรมการสถาบัน
A19: 1 | B19: สหกรณ์เคหสถานบ้านมั่นคงชุมชนชะแมบพัฒนา จำกัด (ระยะที่ 2) | C19: พระนครศรีอยุธยา | D19: 6 | E19: 135 | F19: ปลูกสร้างบ้าน | G19: 38185340 | H19: สินเชื่อพัฒนาที่อยู่อาศัย (โครงการบ้านมั่นคง)
A20: รวม | D20: =SUM(D19:D19) -> 6 | E20: =SUM(E19:E19) -> 135 | F20: - | G20: =SUM(G19:G19) -> 38185340
A22: รวมวงเงินทั้งสิ้น | D22: =+D17+D9+D20 -> 31 | E22: =+E17+E9+E20 -> 458 | F22: - | G22: =+G17+G9+G20 -> 122895113

Sheet สรุปโครงการที่ผ่านความเห็นชอบ
A1: สรุปโครงการที่ได้รับความเห็นชอบวงเงินสินเชื่อ
A2: ตั้งแต่เดือนตุลาคม 2563 ถึงเดือนมีนาคม 2564
A4: กลไกที่ให้ความเห็นชอบ | C4: องค์กร | D4: วงเงินสินเชื่อ
A6: 1 | B6: สินเชื่อพัฒนาที่อยู่อาศัย (โครงการบ้านมั่นคง) | C6: 3 | D6: 18950319
A7: 2 | B7: สินเชื่อพัฒนาที่อยู่อาศัย (โครงการพัฒนาที่อยู่อาศัยริมคลองเปรมประชากร) | C7: 8 | D7: 443958482
A8: 3 | B8: สินเชื่อพัฒนาที่อยู่อาศัย (โครงการพัฒนาที่อยู่อาศัยริมคลองลาดพร้าว) | C8: 3 | D8: 52542600
A9: รวม | C9: =SUM(C6:C8) -> 14 | D9: =SUM(D6:D8) -> 515451401

Sheet รายชื่อโครงการ
A1: รายชื่อองค์กรที่ได้รับความเห็นชอบวงเงินสินเชื่อ
A2: =+สรุปโครงการที่ผ่านการพิจารณา!A2 -> เดือนตุลาคม 2564
A4: ลำดับ | B4: ชื่อองค์กรชุมชน | C4: จังหวัด | D4: สมาชิกผู้รับประโยชน์ | F4: วงเงินสินเชื่อ | G4: วัตถุประสงค์
D5: ชุมชน | E5: ครัวเรือน
A6: สินเชื่อพัฒนาที่อยู่อาศัย (โครงการบ้านมั่นคง)
A7: 1 | B7: สหกรณ์เคหะสถานบ้านร่วมใจ จำกัด | C7: กาฬสินธุ์ | D7: 1 | E7: 23 | F7: 6305319 | G7: ปลูกสร้างบ้าน 19 ครัวเรือน (5,755,319 บาท) และต่อเติมบ้าน 4 ครัวเรือน (550,000 บาท)
A8: 2 | B8: กลุ่มออมทรัพย์เพื่อที่อยู่อาศัยตำบลตลิ่งชัน | C8: สระบุรี | D8: 1 | E8: 80 | F8: 6300000 | G8: ซื้อที่ดิน
A9: 3 | B9: สหกรณ์เคหสถานบ้านมั่นคงชุมชนชะแมบพัฒนา จำกัด (โครงการ 2) | C9: พระนครศรีอยุธยา | D9: 1 | E9: 135 | F9: 6345000 | G9: ซื้อที่ดิน
A10: รวม | D10: =SUM(D7:D9) -> 3 | E10: =SUM(E7:E9) -> 238 | F10: =SUM(F7:F9) -> 18950319 | G10: -
A11: สินเชื่อพัฒนาที่อยู่อาศัย (โครงการพัฒนาที่อยู่อาศัยริมคลองเปรมประชากร)
A12: 1 | B12: สหกรณ์เคหสถานบ้านมั่นคงชุมชนวัดรังสิต จำกัด | C12: ปทุมธานี | D12: 1 | E12: 158 | F12: 56880000 | G12: ปลูกสร้างบ้าน บนที่ดินราชพัสดุ
A13: 2 | B13: สหกรณ์เคหสถานบ้านมั่นคงประเสริฐเปรมประชา จำกัด | C13: กรุงเทพมหานคร | D13: 1 | E13: 136 | F13: 52904000 | G13: ปลูกสร้างบ้าน บนที่ดินราชพัสดุ
A14: 3 | B14: สหกรณ์เคหสถานศิษย์หลวงปู่ขาว จำกัด | C14: กรุงเทพมหานคร | D14: 1 | E14: 150 | F14: 56030532 | G14: ปลูกสร้างบ้าน บนที่ดินราชพัสดุ
A15: 4 | B15: สหกรณ์เคหสถานร่มไทรงามพัฒนา จำกัด กรุงเทพฯ | C15: กรุงเทพมหานคร | D15: 1 | E15: 281 | F15: 104340920 | G15: ปลูกสร้างบ้าน บนที่ดินราชพัสดุ
A16: 5 | B16: สหกรณ์เคหสถานทำนบสตรีเหล็กร่วมพัฒนา จำกัด | C16: กรุงเทพมหานคร | D16: 2 | E16: 154 | F16: 58808750 | G16: ปลูกสร้างบ้าน บนที่ดินราชพัสดุ
A17: 6 | B17: สหกรณ์เคหสถานประชากร 3 จำกัด | C17: กรุงเทพมหานคร | D17: 1 | E17: 158 | F17: 61462000 | G17: ปลูกสร้างบ้าน บนที่ดินราชพัสดุ
A18: 7 | B18: สหกรณ์เคหสถานพัฒนา 99 มีสุขร่วมใจ จำกัด | C18: กรุงเทพมหานคร | D18: 1 | E18: 74 | F18: 26212720 | G18: ปลูกสร้างบ้าน บนที่ดินราชพัสดุ
A19: 8 | B19: สหกรณ์เคหสถานตลาดหลักสี่ จำกัด | C19: กรุงเทพมหานคร | D19: 1 | E19: 74 | F19: 27319560 | G19: ปลูกสร้างบ้าน บนที่ดินราชพัสดุ
A20: รวม | D20: =SUM(D12:D19) -> 9 | E20: =SUM(E12:E19) -> 1185 | F20: =SUM(F12:F19) -> 443958482 | G20: -
A21: สินเชื่อพัฒนาที่อยู่อาศัย (โครงการพัฒนาที่อยู่อาศัยริมคลองลาดพร้าว)
A22: 1 | B22: สหกรณ์เคหสถานบ้านมั่นคงเพิ่มทรัพย์สินสมบุญ จำกัด (กอ.ชช.พัฒนาหมู่ 1 กลุ่ม 2) | C22: กรุงเทพมหานคร | D22: 1 | E22: 19 | F22: 6840000 | G22: ปลูกสร้างบ้าน บนที่ดินราชพัสดุ
A23: 9 | B23: สหกรณ์เคหสถานบ้านเราสายไหม 50 จำกัด | C23: กรุงเทพมหานคร | D23: 1 | E23: 158 | F23: 36309000 | G23: ปลูกสร้างบ้าน บนที่ดินราชพัสดุ
A24: 3 | B24: สหกรณ์เคหสถานบ้านมั่นคงสิทธิชุมชนคนริมคลอง จำกัด | C24: กรุงเทพมหานคร | D24: 6 | E24: 57 | F24: 9393600 | G24: ปลูกสร้างบ้าน บนที่ดินราชพัสดุ
A25: รวม | D25: =SUM(D22:D24) -> 8 | E25: =SUM(E22:E24) -> 234 | F25: =SUM(F22:F24) -> 52542600 | G25: -
A27: รวมวงเงินทั้งสิ้น | D27: =+D20+D10+D25 -> 20 | E27: =+E20+E10+E25 -> 1657 | F27: =+F20+F10+F25 -> 515451401 | G27: -
