Workbook
Name Name_Cr: #REF!
Name กระชัง: [1]จัดชั้น!#REF!
Name กระชัง: [1]จัดชั้น!#REF!

Sheet ใบสรุป (อนุมัติ)
A1: ข้อมูลการดำเนินงานด้านสินเชื่อ (เดือนต.ค.63-มี.ค.64)
A2: หน่วย (บาท)
A3: รายการ | C3: กย.63 | D3: ไตรมาส 1 | E3: ไตรมาส 2 | F3: สะสม
C4: (สะสม) | D4: (ตค.63 - ธค.63) | E4: (มค.64- มีค.64) | F4: (ณ 31 มีค. 64)
A5: 1 | B5: จำนวนสินเชื่อที่อนุมัติ | C5: 1.0779251e+10 | D5: 101772622 | E5: 181460683 | F5: 1.1062484e+10
A6: 2 | B6: จำนวนเงินเบิกจ่ายสินเชื่อ | C6: 9.4638678e+09 | D6: 113530592 | E6: 154174694 | F6: 9.731573e+09
A7: 3 | B7: จำนวนเงินสินเชื่อคงเหลือ | C7: 5.0123207e+09 | D7: 5.0178757e+09 | E7: 5.0710686e+09 | F7: 5.0710686e+09
B8: สินเชื่อโครงการบ้านมั่นคง | C8: 4.4098693e+09 | D8: 4.4178989e+09 | E8: 4.4734057e+09 | F8: 4.4734057e+09
B9: - ภาคกรุงเทพปริมณฑลและตะวันออก | F9: 2.5930395e+09
B10: - ภาคกลางและตะวันตก | F10: 4.4849993e+08
B11: - ภาคตะวันออกเฉียงเหนือ | F11: 5.2337471e+08
B12: - ภาคใต้ | F12: 4.1541315e+08
B13: - ภาคเหนือ | F13: 4.9307846e+08
B14: สินเชื่อเดิม | C14: 6.0245148e+08 | D14: 5.999768e+08 | E14: 5.9766283e+08 | F14: 5.9766283e+08
B15: - ภาคกรุงเทพปริมณฑลและตะวันออก | F15: 2.0148794e+08
B16: - ภาคกลางและตะวันตก | F16: 26371525
B17: - ภาคตะวันออกเฉียงเหนือ | F17: 2.3256398e+08
B18: - ภาคใต้ | F18: 29733630
B19: - ภาคเหนือ | F19: 1.0750576e+08
A20: 4 | B20: สินเชื่อผิดนัด ทุกประเภทสินเชื่อ (คิดเป็นร้อยละ NPL) | C20: 11.18 | D20: 10.54 | E20: 11.99 | F20: 11.99

Sheet รายละเอียดอนุมัติ
A1: รายงานการอนุมัติสินเชื่อ รอบ 6 เดือน (ต.ค.63 - มี.ค. 64)
A4: ลำดับที่ | B4: ชื่อองค์กร/ที่อยู่ | C4: วัน เดือน ปี ที่ได้รับอนุมัติ | D4: วัตถุประสงค์ | E4: กรรมสิทธิ์ที่ดิน | F4: ผู้รับประโยชน์ | H4: วงเงินที่ได้รับอนุมัติ
F6: ชุมชน | G6: ครัวเรือน
A7: 1 | B7: สหกรณ์เคหสถานบ้านมั่นคงชุมชนวัดรังสิต จำกัด กรุงเทพฯ รหัสองค์กร 100287126 | C7: 242449 | D7: ปลูกสร้างบ้าน | E7: ราชพัสดุ | F7: 2 | G7: 186 | H7: 65141412
A8: 2 | B8: สหกรณ์บ้านมั่นคงชุมชนสามตำบล จำกัด จังหวัดนครปฐม รหัสองค์กร 100306926 | C8: 242472 | D8: ปลูกสร้างบ้าน | E8: สหกรณ์ | F8: 1 | G8: 19 | H8: 4840000
A9: 3 | B9: สหกรณ์บ้านมั่นคงหินเหล็กไฟ จำกัด จังหวัดประจวบคีรีขันธ์ รหัสองค์กร 100308786 | C9: 242474 | D9: ปลูกสร้างบ้าน | E9: สหกรณ์ | F9: 2 | G9: 70 | H9: 13791210
A10: 4 | B10: สหกรณ์เคหสถาน 4 ชุมชนเมืองไผ่ จำกัด จังหวัดขอนแก่น รหัสองค์กร 100310348 | C10: 242516 | D10: ซื้อที่ดิน | E10: สหกรณ์ | F10: 5 | G10: 300 | H10: 18000000
A11: 5 | B11: สหกรณ์เคหสถานบ้านมั่นคงบ้านใหม่พัฒนา จำกัด กรุงเทพฯ รหัสองค์กร 100287126 | C11: 242533 | D11: ปลูกสร้างบ้าน | E11: สหกรณ์ | F11: 1 | G11: 56 | H11: 13109903
A12: 6 | B12: สหกรณ์บริการบ้านมั่นคงชุมชนโนนหนองสรวง จำกัด จังหวัดบุรีรัมย์ รหัสองค์กร 100190501 | C12: 242540 | D12: ปลูกสร้างบ้าน | E12: ราชพัสดุ | F12: 1 | G12: 37 | H12: 2367720
A13: 7 | B13: สหกรณ์เคหสถานตาลคู่สมบูรณ์พูนทรัพย์ จำกัด กรุงเทพฯ รหัสองค์กร 100310705 | C13: 242569 | D13: ปลูกสร้างบ้าน | E13: ราชพัสดุ | F13: 1 | G13: 59 | H13: 22110250
A14: 8 | B14: สหกรณ์เคหสถานบ้านมั่นคงเปรมประชาสมบูรณ์ จำกัด กรุงเทพฯ รหัสองค์กร 100310235 | C14: 242569 | D14: ปลูกสร้างบ้าน | E14: ราชพัสดุ | F14: 1 | G14: 94 | H14: 35226500
A15: 9 | B15: สหกรณ์เคหสถานบ้านมั่นคงปูลากะป๊ะ จำกัด จังหวัดนราธิวาส รหัสองค์กร 100310792 | C15: 242572 | D15: ซื้อที่ดิน | E15: สหกรณ์ | F15: 3 | G15: 63 | H15: 4770000
D16: ปลูกสร้างบ้าน | E16: สหกรณ์ | H16: 7305723
A17: 10 | B17: สหกรณ์เคหสถานริมคลองบางซื่อ 1 จำกัด กรุงเทพฯ รหัสองค์กร 100302850 | C17: 242578 | D17: ปลูกสร้างบ้าน | E17: ราชพัสดุ | F17: 1 | G17: 24 | H17: 7628400
A18: 11 | B18: สหกรณ์เคหสถานบ้านมั่นคงภูมิใจ จำกัด กรุงเทพฯ รหัสองค์กร 100281964 | C18: 242591 | D18: ปลูกสร้างบ้าน | E18: สหกรณ์ | F18: 1 | G18: 106 | H18: 26710243
A19: 12 | B19: สหกรณ์เคหสถานชุมชนมิตรประชาพัฒนา จำกัด กรุงเทพฯ รหัสองค์กร 100309430 | C19: 242611 | D19: ปลูกสร้างบ้าน | E19: ราชพัสดุ | F19: 1 | G19: 98 | H19: 37727756
A20: 13 | B20: สหกรณ์เคหสถานเทวมั่นคง จำกัด กรุงเทพฯ รหัสองค์กร 100309428 | C20: 242611 | D20: ปลูกสร้างบ้าน | E20: ราชพัสดุ | F20: 1 | G20: 79 | H20: 24504188
A21: รวมทั้งสิ้น | F21: =SUM(F7:F20) -> 21 | G21: =SUM(G7:G20) -> 1191 | H21: =SUM(H7:H20) -> 283233305

Sheet ใบสรุป (เห็นชอบ)
A1: สรุปโครงการที่ได้รับความเห็นชอบวงเงินสินเชื่อ
A2: ตั้งแต่เดือนตุลาคม 2563 ถึงเดือนมีนาคม 2564
A4: กลไกการพิจารณาให้ความเห็นชอบ | C4: องค์กร | D4: ผู้รับประโยชน์ | F4: วงเงินสินเชื่อ
D5: ชุมชน | E5: ครัวเรือน
A6: 1 | B6: คณะทำงานกลั่นกรองโครงการสินเชื่อ (สินเชื่อวงเงินไม่เกิน 10 ล้านบาท) | C6: =+รายละเอียดเห็นชอบ!A8 -> 2 | D6: =+รายละเอียดเห็นชอบ!D9 -> 2 | E6: =+รายละเอียดเห็นชอบ!E9 -> 103 | F6: =+รายละเอียดเห็นชอบ!G9 -> 12605319
A7: 2 | B7: คณะอนุกรรมการสินเชื่อ (สินเชื่อวงเงินเกิน 10 ล้านบาทขึ้นไป แต่ไม่เกิน 50 ล้านบาท) | C7: =+รายละเอียดเห็นชอบ!A15 -> 5 | D7: =+รายละเอียดเห็นชอบ!D16 -> 10 | E7: =+รายละเอียดเห็นชอบ!E16 -> 498 | F7: =+รายละเอียดเห็นชอบ!G16 -> 105579880
A8: 3 | B8: คณะกรรมการสถาบัน (สินเชื่อวงเงินเกิน 50 ล้านบาทขึ้นไป) | C8: =+รายละเอียดเห็นชอบ!A24 -> 7 | D8: =+รายละเอียดเห็นชอบ!D25 -> 8 | E8: =+รายละเอียดเห็นชอบ!E25 -> 1056 | F8: =+รายละเอียดเห็นชอบ!G25 -> 397266202
A9: รวม | C9: =SUM(C6:C8) -> 14 | D9: =SUM(D6:D8) -> 20 | E9: =SUM(E6:E8) -> 1657 | F9: =SUM(F6:F8) -> 515451401

Sheet รายละเอียดเห็นชอบ
A1: รายชื่อองค์กรที่ได้รับความเห็นชอบวงเงินสินเชื่อ
A2: =+'ใบสรุป (เห็นชอบ)'!A2 -> ตั้งแต่เดือนตุลาคม 2563 ถึงเดือนมีนาคม 2564
A4: ลำดับ | B4: ชื่อองค์กรชุมชน | C4: จังหวัด | D4: สมาชิกผู้รับประโยชน์ | F4: วัตถุประสงค์ | G4: วงเงินสินเชื่อ | H4: ประเภทโครงการ
D5: ชุมชน | E5: ครัวเรือน
A6: คณะทำงานกลั่นกรองโครงการสินเชื่อ
A7: 1 | B7: สหกรณ์เคหะสถานบ้านร่วมใจ จำกัด | C7: กาฬสินธุ์ | D7: 1 | E7: 23 | F7: ปลูกสร้างบ้าน 19 ครัวเรือน (5,755,319 บาท) และต่อเติมบ้าน 4 ครัวเรือน (550,000 บาท) | G7: 6305319 | H7: สินเชื่อพัฒนาที่อยู่อาศัย (โครงการบ้านมั่นคง)
A8: 2 | B8: กลุ่มออมทรัพย์เพื่อที่อยู่อาศัยตำบลตลิ่งชัน | C8: สระบุรี | D8: 1 | E8: 80 | F8: ซื้อที่ดิน | G8: 6300000 | H8: สินเชื่อพัฒนาที่อยู่อาศัย (โครงการบ้านมั่นคง)
A9: รวม | D9: =SUM(D7:D8) -> 2 | E9: =SUM(E7:E8) -> 103 | F9: - | G9: =SUM(G7:G8) -> 12605319
A10: คณะอนุกรรมการสินเชื่อ
A11: 1 | B11: สหกรณ์เคหสถานบ้านมั่นคงชุมชนชะแมบพัฒนา จำกัด (โครงการ 2) | C11: พระนครศรีอยุธยา | D11: 1 | E11: 135 | F11: ซื้อที่ดิน | G11: 6345000 | H11: สินเชื่อพัฒนาที่อยู่อาศัย (โครงการบ้านมั่นคง)
A12: 2 | B12: สหกรณ์เคหสถานบ้านมั่นคงสิทธิชุมชนคนริมคลอง จำกัด | C12: กรุงเทพมหานคร | D12: 6 | E12: 57 | F12: ปลูกสร้างบ้าน บนที่ดินราชพัสดุ | G12: 9393600 | H12: สินเชื่อพัฒนาที่อยู่อาศัย (โครงการพัฒนาที่อยู่อาศัยริมคลองลาดพร้าว)
A13: 3 | B13: สหกรณ์เคหสถานพัฒนา 99 มีสุขร่วมใจ จำกัด | C13: กรุงเทพมหานคร | D13: 1 | E13: 74 | F13: ปลูกสร้างบ้าน บนที่ดินราชพัสดุ | G13: 26212720 | H13: สินเชื่อพัฒนาที่อยู่อาศัย (โครงการพัฒนาที่อยู่อาศัยริมคลองเปรมประชากร)
A14: 4 | B14: สหกรณ์เคหสถานตลาดหลักสี่ จำกัด | C14: กรุงเทพมหานคร | D14: 1 | E14: 74 | F14: ปลูกสร้างบ้าน บนที่ดินราชพัสดุ | G14: 27319560 | H14: สินเชื่อพัฒนาที่อยู่อาศัย (โครงการพัฒนาที่อยู่อาศัยริมคลองเปรมประชากร)
A15: 5 | B15: สหกรณ์เคหสถานบ้านเราสายไหม 50 จำกัด | C15: กรุงเทพมหานคร | D15: 1 | E15: 158 | F15: ปลูกสร้างบ้าน บนที่ดินราชพัสดุ | G15: 36309000 | H15: สินเชื่อพัฒนาที่อยู่อาศัย (โครงการพัฒนาที่อยู่อาศัยริมคลองลาดพร้าว)
A16: รวม | D16: =SUM(D11:D15) -> 10 | E16: =SUM(E11:E15) -> 498 | F16: - | G16: =SUM(G11:G15) -> 105579880
A17: คณะกรรมการสถาบัน
A18: 1 | B18: สหกรณ์เคหสถานบ้านมั่นคงเพิ่มทรัพย์สินสมบุญ จำกัด (กอ.ชช.พัฒนาหมู่ 1 กลุ่ม 2) | C18: กรุงเทพมหานคร | D18: 1 | E18: 19 | F18: ปลูกสร้างบ้าน บนที่ดินราชพัสดุ | G18: 6840000 | H18: สินเชื่อพัฒนาที่อยู่อาศัย (โครงการพัฒนาที่อยู่อาศัยริมคลองลาดพร้าว)
A19: 2 | B19: สหกรณ์เคหสถานบ้านมั่นคงชุมชนวัดรังสิต จำกัด | C19: ปทุมธานี | D19: 1 | E19: 158 | F19: ปลูกสร้างบ้าน บนที่ดินราชพัสดุ | G19: 56880000 | H19: สินเชื่อพัฒนาที่อยู่อาศัย (โครงการพัฒนาที่อยู่อาศัยริมคลองเปรมประชากร)
A20: 3 | B20: สหกรณ์เคหสถานบ้านมั่นคงประเสริฐเปรมประชา จำกัด | C20: กรุงเทพมหานคร | D20: 1 | E20: 136 | F20: ปลูกสร้างบ้าน บนที่ดินราชพัสดุ | G20: 52904000 | H20: สินเชื่อพัฒนาที่อยู่อาศัย (โครงการพัฒนาที่อยู่อาศัยริมคลองเปรมประชากร)
A21: 4 | B21: สหกรณ์เคหสถานศิษย์หลวงปู่ขาว จำกัด | C21: กรุงเทพมหานคร | D21: 1 | E21: 150 | F21: ปลูกสร้างบ้าน บนที่ดินราชพัสดุ | G21: 56030532 | H21: สินเชื่อพัฒนาที่อยู่อาศัย (โครงการพัฒนาที่อยู่อาศัยริมคลองเปรมประชากร)
A22: 5 | B22: สหกรณ์เคหสถานร่มไทรงามพัฒนา จำกัด กรุงเทพฯ | C22: กรุงเทพมหานคร | D22: 1 | E22: 281 | F22: ปลูกสร้างบ้าน บนที่ดินราชพัสดุ | G22: 104340920 | H22: สินเชื่อพัฒนาที่อยู่อาศัย (โครงการพัฒนาที่อยู่อาศัยริมคลองเปรมประชากร)
A23: 6 | B23: สหกรณ์เคหสถานทำนบสตรีเหล็กร่วมพัฒนา จำกัด | C23: กรุงเทพมหานคร | D23: 2 | E23: 154 | F23: ปลูกสร้างบ้าน บนที่ดินราชพัสดุ | G23: 58808750 | H23: สินเชื่อพัฒนาที่อยู่อาศัย (โครงการพัฒนาที่อยู่อาศัยริมคลองเปรมประชากร)
A24: 7 | B24: สหกรณ์เคหสถานประชากร 3 จำกัด | C24: กรุงเทพมหานคร | D24: 1 | E24: 158 | F24: ปลูกสร้างบ้าน บนที่ดินราชพัสดุ | G24: 61462000 | H24: สินเชื่อพัฒนาที่อยู่อาศัย (โครงการพัฒนาที่อยู่อาศัยริมคลองเปรมประชากร)
A25: รวม | D25: =SUM(D18:D24) -> 8 | E25: =SUM(E18:E24) -> 1056 | F25: - | G25: =SUM(G18:G24) -> 397266202
A27: รวมวงเงินทั้งสิ้น | D27: =+D16+D9+D25 -> 20 | E27: =+E16+E9+E25 -> 1657 | F27: - | G27: =+G16+G9+G25 -> 515451401

Sheet สรุปโครงการที่ผ่านความเห็นชอบ
A1: สรุปโครงการที่ได้รับความเห็นชอบวงเงินสินเชื่อ
A2: ตั้งแต่เดือนตุลาคม 2563 ถึงเดือนมีนาคม 2564
A4: กลไกที่ให้ความเห็นชอบ | C4: องค์กร | D4: วงเงินสินเชื่อ
A6: 1 | B6: สินเชื่อพัฒนาที่อยู่อาศัย (โครงการบ้านมั่นคง) | C6: 3 | D6: 18950319
A7: 2 | B7: สินเชื่อพัฒนาที่อยู่อาศัย (โครงการพัฒนาที่อยู่อาศัยริมคลองเปรมประชากร) | C7: 8 | D7: 443958482
A8: 3 | B8: สินเชื่อพัฒนาที่อยู่อาศัย (โครงการพัฒนาที่อยู่อาศัยริมคลองลาดพร้าว) | C8: 3 | D8: 52542600
A9: รวม | C9: =SUM(C6:C8) -> 14 | D9: =SUM(D6:D8) -> 515451401

Sheet รายชื่อโครงการ
A1: รายชื่อองค์กรที่ได้รับความเห็นชอบวงเงินสินเชื่อ
A2: =+'ใบสรุป (เห็นชอบ)'!A2 -> ตั้งแต่เดือนตุลาคม 2563 ถึงเดือนมีนาคม 2564
A4: ลำดับ | B4: ชื่อองค์กรชุมชน | C4: จังหวัด | D4: สมาชิกผู้รับประโยชน์ | F4: วงเงินสินเชื่อ | G4: วัตถุประสงค์
D5: ชุมชน | E5: ครัวเรือน
A6: สินเชื่อพัฒนาที่อยู่อาศัย (โครงการบ้านมั่นคง)
A7: 1 | B7: สหกรณ์เคหะสถานบ้านร่วมใจ จำกัด | C7: กาฬสินธุ์ | D7: 1 | E7: 23 | F7: 6305319 | G7: ปลูกสร้างบ้าน 19 ครัวเรือน (5,755,319 บาท) และต่อเติมบ้าน 4 ครัวเรือน (550,000 บาท)
A8: 2 | B8: กลุ่มออมทรัพย์เพื่อที่อยู่อาศัยตำบลตลิ่งชัน | C8: สระบุรี | D8: 1 | E8: 80 | F8: 6300000 | G8: ซื้อที่ดิน
A9: 3 | B9: สหกรณ์เคหสถานบ้านมั่นคงชุมชนชะแมบพัฒนา จำกัด (โครงการ 2) | C9: พระนครศรีอยุธยา | D9: 1 | E9: 135 | F9: 6345000 | G9: ซื้อที่ดิน
A10: รวม | D10: =SUM(D7:D9) -> 3 | E10: =SUM(E7:E9) -> 238 | F10: =SUM(F7:F9) -> 18950319 | G10: -
A11: สินเชื่อพัฒนาที่อยู่อาศัย (โครงการพัฒนาที่อยู่อาศัยริมคลองเปรมประชากร)
A12: 1 | B12: สหกรณ์เคหสถานบ้านมั่นคงชุมชนวัดรังสิต จำกัด | C12: ปทุมธานี | D12: 1 | E12: 158 | F12: 56880000 | G12: ปลูกสร้างบ้าน บนที่ดินราชพัสดุ
A13: 2 | B13: สหกรณ์เคหสถานบ้านมั่นคงประเสริฐเปรมประชา จำกัด | C13: กรุงเทพมหานคร | D13: 1 | E13: 136 | F13: 52904000 | G13: ปลูกสร้างบ้าน บนที่ดินราชพัสดุ
A14: 3 | B14: สหกรณ์เคหสถานศิษย์หลวงปู่ขาว จำกัด | C14: กรุงเทพมหานคร | D14: 1 | E14: 150 | F14: 56030532 | G14: ปลูกสร้างบ้าน บนที่ดินราชพัสดุ
A15: 4 | B15: สหกรณ์เคหสถานร่มไทรงามพัฒนา จำกัด กรุงเทพฯ | C15: กรุงเทพมหานคร | D15: 1 | E15: 281 | F15: 104340920 | G15: ปลูกสร้างบ้าน บนที่ดินราชพัสดุ
A16: 5 | B16: สหกรณ์เคหสถานทำนบสตรีเหล็กร่วมพัฒนา จำกัด | C16: กรุงเทพมหานคร | D16: 2 | E16: 154 | F16: 58808750 | G16: ปลูกสร้างบ้าน บนที่ดินราชพัสดุ
A17: 6 | B17: สหกรณ์เคหสถานประชากร 3 จำกัด | C17: กรุงเทพมหานคร | D17: 1 | E17: 158 | F17: 61462000 | G17: ปลูกสร้างบ้าน บนที่ดินราชพัสดุ
A18: 7 | B18: สหกรณ์เคหสถานพัฒนา 99 มีสุขร่วมใจ จำกัด | C18: กรุงเทพมหานคร | D18: 1 | E18: 74 | F18: 26212720 | G18: ปลูกสร้างบ้าน บนที่ดินราชพัสดุ
A19: 8 | B19: สหกรณ์เคหสถานตลาดหลักสี่ จำกัด | C19: กรุงเทพมหานคร | D19: 1 | E19: 74 | F19: 27319560 | G19: ปลูกสร้างบ้าน บนที่ดินราชพัสดุ
A20: รวม | D20: =SUM(D12:D19) -> 9 | E20: =SUM(E12:E19) -> 1185 | F20: =SUM(F12:F19) -> 443958482 | G20: -
A21: สินเชื่อพัฒนาที่อยู่อาศัย (โครงการพัฒนาที่อยู่อาศัยริมคลองลาดพร้าว)
A22: 1 | B22: สหกรณ์เคหสถานบ้านมั่นคงเพิ่มทรัพย์สินสมบุญ จำกัด (กอ.ชช.พัฒนาหมู่ 1 กลุ่ม 2) | C22: กรุงเทพมหานคร | D22: 1 | E22: 19 | F22: 6840000 | G22: ปลูกสร้างบ้าน บนที่ดินราชพัสดุ
A23: 9 | B23: สหกรณ์เคหสถานบ้านเราสายไหม 50 จำกัด | C23: กรุงเทพมหานคร | D23: 1 | E23: 158 | F23: 36309000 | G23: ปลูกสร้างบ้าน บนที่ดินราชพัสดุ
A24: 3 | B24: สหกรณ์เคหสถานบ้านมั่นคงสิทธิชุมชนคนริมคลอง จำกัด | C24: กรุงเทพมหานคร | D24: 6 | E24: 57 | F24: 9393600 | G24: ปลูกสร้างบ้าน บนที่ดินราชพัสดุ
A25: รวม | D25: =SUM(D22:D24) -> 8 | E25: =SUM(E22:E24) -> 234 | F25: =SUM(F22:F24) -> 52542600 | G25: -
A27: รวมวงเงินทั้งสิ้น | D27: =+D20+D10+D25 -> 20 | E27: =+E20+E10+E25 -> 1657 | F27: =+F20+F10+F25 -> 515451401 | G27: -
