Workbook

Sheet ปร.6
A1: สรุปผลการประมาณราคาค่าก่อสร้าง | F1: แบบ ปร. 6
A2: รายการประมาณราคาค่าก่อสร้าง : งานก่อสร้างรั้วคอนกรีตเสริมเหล็ก | E2: วันที่ : | F2: 242213
A3: ฝ่ายประมาณราคา : งานสนับสนุนการออกแบบและก่อสร้าง
A4: แบบ ปร. 4, ปร. 5, ปร. 6 ทั้งหมด 4 แผ่น
A5: ลำดับที่ | B5: รายการ | E5: รวม | F5: หมายเหตุ
E6: (บาท)
A7: 1 | B7: งานก่อสร้างรั้วคอนกรีตเสริมเหล็ก สำนักงานภาคใต้ 1 งาน | E7: 970140
A23: สรุป | B23: รวมค่าก่อสร้างทั้งโครงการเป็นเงินทั้งสิน | E23: =SUM(E7:E22) -> 970140
B24: ( เก้าแสนเจ็ดหมื่นหนึ่งร้อยสี่สิบบ้าทถ้วน )

Sheet ปร.5
A1: สรุปผลการประมาณราคาค่าก่อสร้าง | F1: แบบ ปร. 5
A2: รายการประมาณราคาค่าก่อสร้าง : งานก่อสร้างรั้วคอนกรีตเสริมเหล็ก | E2: วันที่ : | F2: 242213
A3: ฝ่ายประมาณราคา : งานสนับสนุนการออกแบบและก่อสร้าง
A4: แบบ ปร. 4 ที่แนบ จำนวน 2 แผ่น
A5: ลำดับที่ | B5: รายการ | C5: ค่าวัสดุ | D5: ค่าแรง | E5: รวม | F5: หมายเหตุ
C6: (บาท) | D6: (บาท) | E6: (บาท)
A7: 1 | B7: งานฐานรากและเสาตอม่อ | C7: =ปร.4!F19 -> 93054 | D7: =ปร.4!H19 -> 78930 | E7: =SUM(C7:D7) -> 171984
A8: 2 | B8: งานโครงสร้าง คาน ทับหลัง | C8: =ปร.4!F28 -> 111118 | D8: =ปร.4!H28 -> 42380 | E8: =SUM(C8:D8) -> 153498
A9: 3 | B9: งานโครงสร้าง เสา ผนังกันดิน | C9: =ปร.4!F37 -> 70570 | D9: =ปร.4!H37 -> 25250 | E9: =SUM(C9:D9) -> 95820
A10: 4 | B10: งานตกแต่งผิวผนัง | C10: =ปร.4!F44 -> 31500 | D10: =ปร.4!H44 -> 32290 | E10: =SUM(C10:D10) -> 63790
A11: 5 | B11: งานรั้วเหล็กรูปพรรณ | C11: =ปร.4!F51 -> 171100 | D11: =ปร.4!H51 -> 87500 | E11: =SUM(C11:D11) -> 258600
A12: 6 | B12: งานทาสีรั้วเดิม | C12: =ปร.4!F55 -> 6500 | D12: =ปร.4!H55 -> 14300 | E12: =SUM(C12:D12) -> 20800
B21: รวมงบประมาณค่าก่อสร้างอาคาร | C21: =SUM(C7:C20) -> 483842 | D21: =SUM(D7:D20) -> 280650 | E21: =SUM(E7:E20) -> 764492
B22: รวมงบประมาณค่าก่อสร้าง รวมค่า Factor F 1.2690 | E22: =E21*1.269 -> 970140.35
A23: สรุป | B23: งบประมาณค่าก่อสร้างสุทธิ | C23: ( เก้าแสนเจ็ดหมื่นหนึ่งร้อยสี่สิบบ้าทถ้วน ) | E23: 970140

Sheet ปร.4
A1: =ปร.5!A2:F2 -> รายการประมาณราคาค่าก่อสร้าง : งานก่อสร้างรั้วคอนกรีตเสริมเหล็ก | J1: แบบ ปร. 4
A2: ฝ่ายประมาณราคางานสนับสนุนการออกแบบและก่อสร้าง
A4: ลำดับ | B4: รายการ | C4: จำนวน | D4: หน่วย | E4: ราคาวัสดุสิ่งของ | G4: ค่าแรงงาน | I4: รวมค่าวัสดุ | J4: หมายเหตุ
A5: ที่ | E5: ราคา/หน่วย | F5: จำนวนเงิน | G5: ราคา/หน่วย | H5: จำนวนเงิน | I5: และค่าแรงงาน
A6: 1 | B6: งานฐานรากและเสาตอม่อ
B7: - งานปรับพื้นที่วางผัง | C7: 1 | D7: L.S. | E7: 0 | F7: =E7*C7 -> 0 | G7: 25000 | H7: =G7*C7 -> 25000 | I7: =H7+F7 -> 25000
B8: - งานขุดดิน | C8: 120 | D8: ลบ.ม | E8: 0 | F8: =E8*C8 -> 0 | G8: 70 | H8: =G8*C8 -> 8400 | I8: =H8+F8 -> 8400
B9: - งานถมดินกลับ | C9: 120 | D9: ลบ.ม | E9: 0 | F9: =E9*C9 -> 0 | G9: 50 | H9: =G9*C9 -> 6000 | I9: =H9+F9 -> 6000
B10: - งานเสาเข็มสี่เหลี่ยมตัน ขนาด 0.15x0.15x6.00 เมตร | C10: 76 | D10: ต้น | E10: 800 | F10: =E10*C10 -> 60800 | G10: 400 | H10: =G10*C10 -> 30400 | I10: =H10+F10 -> 91200
B11: - งานทรายหยาบรองพื้นอัดแน่น | C11: 2 | D11: ลบ.ม | E11: 300 | F11: =E11*C11 -> 600 | G11: 100 | H11: =G11*C11 -> 200 | I11: =H11+F11 -> 800
B12: - งานคอนกรีตหยาบ | C12: 2 | D12: ลบ.ม | E12: 1500 | F12: =E12*C12 -> 3000 | G12: 250 | H12: =G12*C12 -> 500 | I12: =H12+F12 -> 3500
B13: - งานไม้แบบหล่อ 35 % | C13: 16 | D13: ตร.ม | E13: 180 | F13: =E13*C13 -> 2880 | G13: 140 | H13: =G13*C13 -> 2240 | I13: =H13+F13 -> 5120
B14: - งานคอนกรีตโครงสร้างกำลังอัดประลัย 240 ksc. | C14: 6 | D14: ลบ.ม | E14: 2244 | F14: =E14*C14 -> 13464 | G14: 300 | H14: =G14*C14 -> 1800 | I14: =H14+F14 -> 15264
B15: - งานเหล็ก RB 9 มม.(เหล็กกลมขนาด 9 มม.) | C15: 15 | D15: เส้น | E15: 110 | F15: =E15*C15 -> 1650 | G15: 50 | H15: =G15*C15 -> 750 | I15: =H15+F15 -> 2400
B16: DB 12 มม.(เหล็กข้ออ้อยขนาด 12 มม.) | C16: 52 | D16: เส้น | E16: 190 | F16: =E16*C16 -> 9880 | G16: 70 | H16: =G16*C16 -> 3640 | I16: =H16+F16 -> 13520
B17: - ลวดผูกเหล็ก | C17: 10 | D17: กก. | E17: 50 | F17: =E17*C17 -> 500 | G17: 0 | H17: =G17*C17 -> 0 | I17: =H17+F17 -> 500
B18: - ตะปู | C18: 4 | D18: กก. | E18: 70 | F18: =E18*C18 -> 280 | G18: 0 | H18: =G18*C18 -> 0 | I18: =H18+F18 -> 280
B19: รวมรายการที่ 1 | F19: =SUM(F7:F18) -> 93054 | H19: =SUM(H7:H18) -> 78930 | I19: =H19+F19 -> 171984
A20: 2 | B20: งานโครงสร้าง คาน ทับหลัง
B21: - งานทรายหยาบรองพื้นอัดแน่น | C21: 2 | D21: ลบ.ม | E21: 300 | F21: =E21*C21 -> 600 | G21: 120 | H21: =G21*C21 -> 240 | I21: =H21+F21 -> 840
B22: - งานไม้แบบหล่อ 35 % | C22: 120 | D22: ตร.ม | E22: 180 | F22: =E22*C22 -> 21600 | G22: 140 | H22: =G22*C22 -> 16800 | I22: =H22+F22 -> 38400
B23: - งานคอนกรีตโครงสร้างกำลังอัดประลัย 240 ksc. | C23: 22 | D23: ลบ.ม | E23: 2244 | F23: =E23*C23 -> 49368 | G23: 300 | H23: =G23*C23 -> 6600 | I23: =H23+F23 -> 55968
B24: - งานเหล็ก RB 6 มม.(เหล็กกลมขนาด 6 มม.) | C24: 190 | D24: เส้น | E24: 60 | F24: =E24*C24 -> 11400 | G24: 50 | H24: =G24*C24 -> 9500 | I24: =H24+F24 -> 20900
B25: DB 12 มม.(เหล็กข้ออ้อยขนาด 12 มม.) | C25: 132 | D25: เส้น | E25: 190 | F25: =E25*C25 -> 25080 | G25: 70 | H25: =G25*C25 -> 9240 | I25: =H25+F25 -> 34320
B26: - ลวดผูกเหล็ก | C26: 25 | D26: กก. | E26: 50 | F26: =E26*C26 -> 1250 | G26: 0 | H26: =G26*C26 -> 0 | I26: =H26+F26 -> 1250
B27: - ตะปู | C27: 26 | D27: กก. | E27: 70 | F27: =E27*C27 -> 1820 | G27: 0 | H27: =G27*C27 -> 0 | I27: =H27+F27 -> 1820
B28: รวมรายการที่ 2 | F28: =SUM(F21:F27) -> 111118 | H28: =SUM(H21:H27) -> 42380 | I28: =H28+F28 -> 153498
A29: 3 | B29: งานโครงสร้าง เสา ผนังกันดิน
B30: - งานไม้แบบหล่อ 35 % | C30: 70 | D30: ตร.ม | E30: 180 | F30: =E30*C30 -> 12600 | G30: 140 | H30: =G30*C30 -> 9800 | I30: =H30+F30 -> 22400
B31: - งานคอนกรีตโครงสร้างกำลังอัดประลัย 240 ksc. | C31: 15 | D31: ลบ.ม | E31: 2244 | F31: =E31*C31 -> 33660 | G31: 300 | H31: =G31*C31 -> 4500 | I31: =H31+F31 -> 38160
B32: - งานเหล็ก RB 6 มม.(เหล็กกลมขนาด 6 มม.) | C32: 85 | D32: เส้น | E32: 60 | F32: =E32*C32 -> 5100 | G32: 50 | H32: =G32*C32 -> 4250 | I32: =H32+F32 -> 9350
B33: RB 9 มม.(เหล็กกลมขนาด 9 มม.) | C33: 36 | D33: เส้น | E33: 110 | F33: =E33*C33 -> 3960 | G33: 50 | H33: =G33*C33 -> 1800 | I33: =H33+F33 -> 5760
B34: DB 12 มม.(เหล็กข้ออ้อยขนาด 12 มม.) | C34: 70 | D34: เส้น | E34: 190 | F34: =E34*C34 -> 13300 | G34: 70 | H34: =G34*C34 -> 4900 | I34: =H34+F34 -> 18200
B35: - ลวดผูกเหล็ก | C35: 18 | D35: กก. | E35: 50 | F35: =E35*C35 -> 900 | G35: 0 | H35: =G35*C35 -> 0 | I35: =H35+F35 -> 900
B36: - ตะปู | C36: 15 | D36: กก. | E36: 70 | F36: =E36*C36 -> 1050 | G36: 0 | H36: =G36*C36 -> 0 | I36: =H36+F36 -> 1050
B37: รวมรายการที่ 3 | F37: =SUM(F30:F36) -> 70570 | H37: =SUM(H30:H36) -> 25250 | I37: =H37+F37 -> 95820
A38: 4 | B38: งานตกแต่งผิวผนัง
B39: - ฉาบปูนเรียบ | C39: 130 | D39: ตร.ม | E39: 0 | F39: =E39*C39 -> 0 | G39: 70 | H39: =G39*C39 -> 9100 | I39: =H39+F39 -> 9100
B40: - ปูนซีเมนต์ | C40: 45 | D40: ถุง | E40: 160 | F40: =E40*C40 -> 7200 | G40: 0 | H40: =G40*C40 -> 0 | I40: =H40+F40 -> 7200
B41: - ทรายละเอียด | C41: 9 | D41: ลบ.ม | E41: 550 | F41: =E41*C41 -> 4950 | G41: 0 | H41: =G41*C41 -> 0 | I41: =H41+F41 -> 4950
B42: - จับเหลี่ยม | C42: 257 | D42: ม. | E42: 50 | F42: =E42*C42 -> 12850 | G42: 70 | H42: =G42*C42 -> 17990 | I42: =H42+F42 -> 30840
B43: - ทาสีน้ำอะครีลิค ชนิดภายนอก (เฉดสีระบุภายหลัง) | C43: 130 | D43: ตร.ม | E43: 50 | F43: =E43*C43 -> 6500 | G43: 40 | H43: =G43*C43 -> 5200 | I43: =H43+F43 -> 11700
B44: รวมรายการที่ 4 | F44: =SUM(F39:F43) -> 31500 | H44: =SUM(H39:H43) -> 32290 | I44: =H44+F44 -> 63790
A45: 5 | B45: งานรั้วเหล็กรูปพรรณ
B46: - ค่าแรงประกอบรั้วเหล็กรูปพรรณ | C46: 250 | D46: ตร.ม | E46: 0 | F46: =E46*C46 -> 0 | G46: 50 | H46: =G46*C46 -> 12500 | I46: =H46+F46 -> 12500
B47: - เหล็กกล่อง 25 x 50 x1.6 มม. | C47: 670 | D47: ท่อน | E47: 210 | F47: =E47*C47 -> 140700 | G47: 80 | H47: =G47*C47 -> 53600 | I47: =H47+F47 -> 194300
B48: - แผ่นเพลสเหล็ก 2" หนา 4 มม. | C48: 20 | D48: ม. | E48: 270 | F48: =E48*C48 -> 5400 | G48: 70 | H48: =G48*C48 -> 1400 | I48: =H48+F48 -> 6800
B49: - สีกันสนิม | C49: 250 | D49: ตร.ม | E49: 40 | F49: =E49*C49 -> 10000 | G49: 40 | H49: =G49*C49 -> 10000 | I49: =H49+F49 -> 20000
B50: - สีงานสีน้ำมัน (เฉดสีระบุภายหลัง) | C50: 250 | D50: ตร.ม | E50: 60 | F50: =E50*C50 -> 15000 | G50: 40 | H50: =G50*C50 -> 10000 | I50: =H50+F50 -> 25000
B51: รวมรายการที่ 5 | F51: =SUM(F46:F50) -> 171100 | H51: =SUM(H46:H50) -> 87500 | I51: =H51+F51 -> 258600
A52: 6 | B52: งานทาสีรั้วเดิม
B53: - งานทำความสะอาด พร้อมลอกสีเดิม | C53: 130 | D53: ตร.ม | E53: 0 | F53: =E53*C53 -> 0 | G53: 70 | H53: =G53*C53 -> 9100 | I53: =H53+F53 -> 9100
B54: - ทาสีน้ำอะครีลิค ชนิดภายนอก (เฉดสีระบุภายหลัง) | C54: 130 | D54: ตร.ม | E54: 50 | F54: =E54*C54 -> 6500 | G54: 40 | H54: =G54*C54 -> 5200 | I54: =H54+F54 -> 11700
B55: รวมรายการที่ 6 | F55: =SUM(F53:F54) -> 6500 | H55: =SUM(H53:H54) -> 14300 | I55: =H55+F55 -> 20800
A56: รวมงบประมาณค่าก่อสร้าง | F56: =F19+F28+F37+F44+F51+F55 -> 483842 | H56: =H19+H28+H37+H44+H51+H55 -> 280650 | I56: =F56+H56 -> 764492
